BEGIN:VCALENDAR
VERSION:2.0
PRODID:-//Microsoft Corporation//Outlook 16.0 MIMEDIR//FR
CALSCALE:GREGORIAN
METHOD:PUBLISH
X-WR-TIMEZONE:Europe/Monaco
X-MS-OLK-FORCEINSPECTOROPEN:"TRUE"
BEGIN:VTIMEZONE
TZID:Europe/Monaco
BEGIN:STANDARD
DTSTART:20221030T010000
TZOFFSETTO:+0100
TZOFFSETFROM:+0200
RRULE:FREQ=YEARLY;BYMONTH=11;BYDAY=1SU
END:STANDARD
BEGIN:DAYLIGHT
DTSTART:20220327T010000
TZOFFSETTO:+0200
TZOFFSETFROM:+0100
RRULE:FREQ=YEARLY;BYMONTH=3;BYDAY=2SU
END:DAYLIGHT
END:VTIMEZONE
BEGIN:VEVENT
UID:1135-fd28eaed81e8dbb1e4b38bed32f90e76-principocket.com\n
DTSTART:20220118T200000
DTEND:20220118T200000
TRANSP:TRANSPARENT
IMAGE;VALUE=URI;DISPLAY=;FMTTYPE=image/png:https://app.monacoplatform.
 com/uploads/1-/1-JFK6m7OP.jpg
STATUS:CONFIRMED
SUMMARY:Una gita in campagna (Partie De Campagne)
DESCRIPTION:Martedì 18 gennaio 2022 alle 20\, Théâtre des Variété
 s\n\nTutta l'arte del Cinema  - Dallo scritto allo schermo - proiezion
 e del film "Una gita in campagna" di Jean Renoir (1946)\, a cura dell'
 Istituto Audiovisivo di Monaco in collaborazione con Alliance Françai
 se\n\n https://www.principocket.com/it/event/fd28eaed81e8dbb1e4b38bed3
 2f90e76/una-gita-in-campagna-partie-de-campagne
LOCATION:1\, boulevard Albert Ier
URL:https://www.principocket.com/event/fd28eaed81e8dbb1e4b38bed32f90e7
 6/1135
DTSTAMP:20260423T133154Z
CREATED:20220117T085732Z
LAST-MODIFIED:20220117T085732Z
END:VEVENT
END:VCALENDAR
