BEGIN:VCALENDAR
VERSION:2.0
PRODID:-//Microsoft Corporation//Outlook 16.0 MIMEDIR//FR
CALSCALE:GREGORIAN
METHOD:PUBLISH
X-WR-TIMEZONE:Europe/Monaco
X-MS-OLK-FORCEINSPECTOROPEN:"TRUE"
BEGIN:VTIMEZONE
TZID:Europe/Monaco
BEGIN:STANDARD
DTSTART:20221030T010000
TZOFFSETTO:+0100
TZOFFSETFROM:+0200
RRULE:FREQ=YEARLY;BYMONTH=11;BYDAY=1SU
END:STANDARD
BEGIN:DAYLIGHT
DTSTART:20220327T010000
TZOFFSETTO:+0200
TZOFFSETFROM:+0100
RRULE:FREQ=YEARLY;BYMONTH=3;BYDAY=2SU
END:DAYLIGHT
END:VTIMEZONE
BEGIN:VEVENT
UID:1133-4a07064a090c81d428ec84eb3f2c3953-principocket.com\n
DTSTART:20220111T200000
DTEND:20220111T200000
TRANSP:TRANSPARENT
IMAGE;VALUE=URI;DISPLAY=;FMTTYPE=image/png:https://app.monacoplatform.
 com/uploads/Jm/Jmwe0WhqzY.jpg
STATUS:CONFIRMED
SUMMARY:Mai dire Mai (Jamais Plus Jamais)
DESCRIPTION:Martedì 11 gennaio 2022 alle 20\, Théâtre des Variété
 s\n\nTutta l'arte del Cinema - I Martedì del Cinema - proiezione del 
 film "Mai dire mai" di Irvin Kershner (1983) organizzata dall'Istituto
  Audiovisivo di Monaco\n\n https://www.principocket.com/it/event/4a070
 64a090c81d428ec84eb3f2c3953/mai-dire-mai-jamais-plus-jamais
LOCATION:1\, boulevard Albert Ier
URL:https://www.principocket.com/event/4a07064a090c81d428ec84eb3f2c395
 3/1133
DTSTAMP:20260423T114214Z
CREATED:20220106T080345Z
LAST-MODIFIED:20220106T080345Z
END:VEVENT
END:VCALENDAR
