BEGIN:VCALENDAR
VERSION:2.0
PRODID:-//Microsoft Corporation//Outlook 16.0 MIMEDIR//FR
CALSCALE:GREGORIAN
METHOD:PUBLISH
X-WR-TIMEZONE:Europe/Monaco
X-MS-OLK-FORCEINSPECTOROPEN:"TRUE"
BEGIN:VTIMEZONE
TZID:Europe/Monaco
BEGIN:STANDARD
DTSTART:20221030T010000
TZOFFSETTO:+0100
TZOFFSETFROM:+0200
RRULE:FREQ=YEARLY;BYMONTH=11;BYDAY=1SU
END:STANDARD
BEGIN:DAYLIGHT
DTSTART:20220327T010000
TZOFFSETTO:+0200
TZOFFSETFROM:+0100
RRULE:FREQ=YEARLY;BYMONTH=3;BYDAY=2SU
END:DAYLIGHT
END:VTIMEZONE
BEGIN:VEVENT
UID:1131-e227c383c9afc1243aadfbad39dd6a4d-principocket.com\n
DTSTART:20211217T000000
DTEND:20220503T235900
TRANSP:TRANSPARENT
IMAGE;VALUE=URI;DISPLAY=;FMTTYPE=image/png:https://app.monacoplatform.
 com/uploads/ab/abUowW3bsY.jpg
STATUS:CONFIRMED
SUMMARY:Mostra
DESCRIPTION:Da venerdì 17 dicembre 2021 a lunedì 2 maggio 2022\, Nou
 veau Musée National de Monaco - Villa Sauber\n\nMostra "Monaco – Al
 essandria": la grande svolta delle città-mondo e il surrealismo cosmo
 polita\n\n https://www.principocket.com/it/event/e227c383c9afc1243aadf
 bad39dd6a4d/mostra
LOCATION:17\, avenue Princesse Grace
URL:https://www.principocket.com/event/e227c383c9afc1243aadfbad39dd6a4
 d/1131
DTSTAMP:20260423T071805Z
CREATED:20220419T092306Z
LAST-MODIFIED:20220419T092306Z
X-MICROSOFT-CDO-ALLDAYEVENT:TRUE
END:VEVENT
END:VCALENDAR
