BEGIN:VCALENDAR
VERSION:2.0
PRODID:-//Microsoft Corporation//Outlook 16.0 MIMEDIR//FR
CALSCALE:GREGORIAN
METHOD:PUBLISH
X-WR-TIMEZONE:Europe/Monaco
X-MS-OLK-FORCEINSPECTOROPEN:"TRUE"
BEGIN:VTIMEZONE
TZID:Europe/Monaco
BEGIN:STANDARD
DTSTART:20211031T010000
TZOFFSETTO:+0100
TZOFFSETFROM:+0200
RRULE:FREQ=YEARLY;BYMONTH=11;BYDAY=1SU
END:STANDARD
BEGIN:DAYLIGHT
DTSTART:20210328T010000
TZOFFSETTO:+0200
TZOFFSETFROM:+0100
RRULE:FREQ=YEARLY;BYMONTH=3;BYDAY=2SU
END:DAYLIGHT
END:VTIMEZONE
BEGIN:VEVENT
UID:1130-60d26f77d45850cb0e032f75e9747441-principocket.com\n
DTSTART:20211214T200000
DTEND:20211214T200000
TRANSP:TRANSPARENT
IMAGE;VALUE=URI;DISPLAY=;FMTTYPE=image/png:https://app.monacoplatform.
 com/uploads/ve/vequLmMxVY.jpg
STATUS:CONFIRMED
SUMMARY:Le avventure acquatiche di Steve Zissou
DESCRIPTION:Martedì 14 dicembre 2021 alle 20\, Théâtre des Variét
 és\n\nTutta l'arte del Cinema - I Martedì del Cinema - proiezione de
 l film "Le avventure acquatiche di Steve Zissou" di Wes Anderson  orga
 nizzata dall'Istituto Audiovisivo di Monaco\n\n https://www.principock
 et.com/it/event/60d26f77d45850cb0e032f75e9747441/le-avventure-acquatic
 he-di-steve-zissou
LOCATION:1\, boulevard Albert Ier
URL:https://www.principocket.com/event/60d26f77d45850cb0e032f75e974744
 1/1130
DTSTAMP:20260423T053623Z
CREATED:20211210T101854Z
LAST-MODIFIED:20211210T101854Z
END:VEVENT
END:VCALENDAR
