BEGIN:VCALENDAR
VERSION:2.0
PRODID:-//Microsoft Corporation//Outlook 16.0 MIMEDIR//FR
CALSCALE:GREGORIAN
METHOD:PUBLISH
X-WR-TIMEZONE:Europe/Monaco
X-MS-OLK-FORCEINSPECTOROPEN:"TRUE"
BEGIN:VTIMEZONE
TZID:Europe/Monaco
BEGIN:STANDARD
DTSTART:20211031T010000
TZOFFSETTO:+0100
TZOFFSETFROM:+0200
RRULE:FREQ=YEARLY;BYMONTH=11;BYDAY=1SU
END:STANDARD
BEGIN:DAYLIGHT
DTSTART:20210328T010000
TZOFFSETTO:+0200
TZOFFSETFROM:+0100
RRULE:FREQ=YEARLY;BYMONTH=3;BYDAY=2SU
END:DAYLIGHT
END:VTIMEZONE
BEGIN:VEVENT
UID:1129-684102eecc147e4009d8b5b0611d64e5-principocket.com\n
DTSTART:20211207T200000
DTEND:20211207T200000
TRANSP:TRANSPARENT
IMAGE;VALUE=URI;DISPLAY=;FMTTYPE=image/png:https://app.monacoplatform.
 com/uploads/Pl/Plupkj4SNa.jpg
STATUS:CONFIRMED
SUMMARY:L'Addio (Les Adieux à Matiora)
DESCRIPTION:Martedì 7 dicembre 2021 alle 20\, Théâtre des Variété
 s\n\nTutta l'arte del Cinema - I Martedì del Cinema - proiezione del 
 film "L'Addio" di Elem Klimow (1981) organizzata dall'Istituto Audiovi
 sivo di Monaco\n\n https://www.principocket.com/it/event/684102eecc147
 e4009d8b5b0611d64e5/l-addio-les-adieux-a-matiora
LOCATION:1\, boulevard Albert Ier
URL:https://www.principocket.com/event/684102eecc147e4009d8b5b0611d64e
 5/1129
DTSTAMP:20260423T035456Z
CREATED:20211202T104536Z
LAST-MODIFIED:20211202T104536Z
END:VEVENT
END:VCALENDAR
