BEGIN:VCALENDAR
VERSION:2.0
PRODID:-//Microsoft Corporation//Outlook 16.0 MIMEDIR//FR
CALSCALE:GREGORIAN
METHOD:PUBLISH
X-WR-TIMEZONE:Europe/Monaco
X-MS-OLK-FORCEINSPECTOROPEN:"TRUE"
BEGIN:VTIMEZONE
TZID:Europe/Monaco
BEGIN:STANDARD
DTSTART:20211031T010000
TZOFFSETTO:+0100
TZOFFSETFROM:+0200
RRULE:FREQ=YEARLY;BYMONTH=11;BYDAY=1SU
END:STANDARD
BEGIN:DAYLIGHT
DTSTART:20210328T010000
TZOFFSETTO:+0200
TZOFFSETFROM:+0100
RRULE:FREQ=YEARLY;BYMONTH=3;BYDAY=2SU
END:DAYLIGHT
END:VTIMEZONE
BEGIN:VEVENT
UID:1126-033d11cf4ed278b5a6b30af9bf71e362-principocket.com\n
DTSTART:20211130T203000
DTEND:20211130T203000
TRANSP:TRANSPARENT
IMAGE;VALUE=URI;DISPLAY=;FMTTYPE=image/png:https://app.monacoplatform.
 com/uploads/tg/tgi4N4-0wP.jpg
STATUS:CONFIRMED
SUMMARY:Chucho Valdés Quartet feat. Yilian Cañizares
DESCRIPTION:Martedì 30 novembre 2021 alle 20.30 Opera di Monte-Carlo 
 - Salle Garnier\n\nMonte-Carlo Jazz Festival 2021: concerto  di Chucho
  Valdés Quartet en featuring con Yilian Cañizares\n\n https://www.pr
 incipocket.com/it/event/033d11cf4ed278b5a6b30af9bf71e362/chucho-valdes
 -quartet-feat-yilian-canizares
LOCATION:Place du Casino
URL:https://www.principocket.com/event/033d11cf4ed278b5a6b30af9bf71e36
 2/1126
DTSTAMP:20260422T231509Z
CREATED:20211122T163222Z
LAST-MODIFIED:20211122T163222Z
END:VEVENT
END:VCALENDAR
