BEGIN:VCALENDAR
VERSION:2.0
PRODID:-//Microsoft Corporation//Outlook 16.0 MIMEDIR//FR
CALSCALE:GREGORIAN
METHOD:PUBLISH
X-WR-TIMEZONE:Europe/Monaco
X-MS-OLK-FORCEINSPECTOROPEN:"TRUE"
BEGIN:VTIMEZONE
TZID:Europe/Monaco
BEGIN:STANDARD
DTSTART:20211031T010000
TZOFFSETTO:+0100
TZOFFSETFROM:+0200
RRULE:FREQ=YEARLY;BYMONTH=11;BYDAY=1SU
END:STANDARD
BEGIN:DAYLIGHT
DTSTART:20210328T010000
TZOFFSETTO:+0200
TZOFFSETFROM:+0100
RRULE:FREQ=YEARLY;BYMONTH=3;BYDAY=2SU
END:DAYLIGHT
END:VTIMEZONE
BEGIN:VEVENT
UID:1125-34d3a6f01d84619559b985c7982586fe-principocket.com\n
DTSTART:20211129T203000
DTEND:20211129T203000
TRANSP:TRANSPARENT
IMAGE;VALUE=URI;DISPLAY=;FMTTYPE=image/png:https://app.monacoplatform.
 com/uploads/a5/a5p9HIW5KL.jpg
STATUS:CONFIRMED
SUMMARY:Gregory Porter
DESCRIPTION:Lunedì 29 novembre 2021 alle 20.30\, Opera di Monte-Carlo
  - Salle Garnier\n\nVenite a (ri)scoprire Gregory Porter e il suo nuov
 o album "All Rise" il 29 novembre all'Opera Garnier Monte-Carlo!\n\n h
 ttps://www.principocket.com/it/event/34d3a6f01d84619559b985c7982586fe/
 gregory-porter
LOCATION:Place du Casino
URL:https://www.principocket.com/event/34d3a6f01d84619559b985c7982586f
 e/1125
DTSTAMP:20260422T215713Z
CREATED:20211122T163222Z
LAST-MODIFIED:20211122T163222Z
END:VEVENT
END:VCALENDAR
