BEGIN:VCALENDAR
VERSION:2.0
PRODID:-//Microsoft Corporation//Outlook 16.0 MIMEDIR//FR
CALSCALE:GREGORIAN
METHOD:PUBLISH
X-WR-TIMEZONE:Europe/Monaco
X-MS-OLK-FORCEINSPECTOROPEN:"TRUE"
BEGIN:VTIMEZONE
TZID:Europe/Monaco
BEGIN:STANDARD
DTSTART:20211031T010000
TZOFFSETTO:+0100
TZOFFSETFROM:+0200
RRULE:FREQ=YEARLY;BYMONTH=11;BYDAY=1SU
END:STANDARD
BEGIN:DAYLIGHT
DTSTART:20210328T010000
TZOFFSETTO:+0200
TZOFFSETFROM:+0100
RRULE:FREQ=YEARLY;BYMONTH=3;BYDAY=2SU
END:DAYLIGHT
END:VTIMEZONE
BEGIN:VEVENT
UID:1117-697e9857a9c33b354cfa357d4ecfe1c3-principocket.com\n
DTSTART:20211109T200000
DTEND:20211109T200000
TRANSP:TRANSPARENT
IMAGE;VALUE=URI;DISPLAY=;FMTTYPE=image/png:https://app.monacoplatform.
 com/uploads/Sb/SbGC0kArdG.jpg
STATUS:CONFIRMED
SUMMARY:F come falso
DESCRIPTION:Martedì 9 novembre 2021 alle 20\, Théâtre des Variété
 s\n\nTutta l'Arte del Cinema  - Film restaurato - proiezione del film 
 "F come falso" di Orson Welles (1973) a cura dell'Istituto audiovisivo
  di Monaco\, in collaborazione con La Cinemateca francese\n\n https://
 www.principocket.com/it/event/697e9857a9c33b354cfa357d4ecfe1c3/f-come-
 falso
LOCATION:1\, boulevard Albert Ier
URL:https://www.principocket.com/event/697e9857a9c33b354cfa357d4ecfe1c
 3/1117
DTSTAMP:20260420T215853Z
CREATED:20211025T094757Z
LAST-MODIFIED:20211025T094757Z
END:VEVENT
END:VCALENDAR
