BEGIN:VCALENDAR
VERSION:2.0
PRODID:-//Microsoft Corporation//Outlook 16.0 MIMEDIR//FR
CALSCALE:GREGORIAN
METHOD:PUBLISH
X-WR-TIMEZONE:Europe/Monaco
X-MS-OLK-FORCEINSPECTOROPEN:"TRUE"
BEGIN:VTIMEZONE
TZID:Europe/Monaco
BEGIN:STANDARD
DTSTART:20221030T010000
TZOFFSETTO:+0100
TZOFFSETFROM:+0200
RRULE:FREQ=YEARLY;BYMONTH=11;BYDAY=1SU
END:STANDARD
BEGIN:DAYLIGHT
DTSTART:20220327T010000
TZOFFSETTO:+0200
TZOFFSETFROM:+0100
RRULE:FREQ=YEARLY;BYMONTH=3;BYDAY=2SU
END:DAYLIGHT
END:VTIMEZONE
BEGIN:VEVENT
UID:1080-5d2ae9e96201ecbbe15b6efe14c296d1-principocket.com\n
DTSTART:20220125T183000
DTEND:20220125T183000
TRANSP:TRANSPARENT
IMAGE;VALUE=URI;DISPLAY=;FMTTYPE=image/png:https://app.monacoplatform.
 com/uploads/Jr/JrSgSVCx7y.jpg
STATUS:CONFIRMED
SUMMARY:Happy Hour Musicale
DESCRIPTION:Martedì 25 gennaio 2022 alle 18.30\, Auditorium Rainier I
 II\n\nHappy Hour Musicale: concerto di musica da camera con Jae-Eun Le
 e & Mitchell Huang\, violino\, Raphaël Chazal\, viola\, Florence Lebl
 ond\, violoncello\, Delphine Hueber\, flauto e Matthieu Petitjean\, ob
 oe. In programma: Wolfgang Amadeus Mozart\n\n https://www.principocket
 .com/it/event/5d2ae9e96201ecbbe15b6efe14c296d1/happy-hour-musicale
LOCATION:Boulevard Louis II
URL:https://www.principocket.com/event/5d2ae9e96201ecbbe15b6efe14c296d
 1/1080
DTSTAMP:20260421T082258Z
CREATED:20220124T083114Z
LAST-MODIFIED:20220124T083114Z
END:VEVENT
END:VCALENDAR
