BEGIN:VCALENDAR
VERSION:2.0
PRODID:-//Microsoft Corporation//Outlook 16.0 MIMEDIR//FR
CALSCALE:GREGORIAN
METHOD:PUBLISH
X-WR-TIMEZONE:Europe/Monaco
X-MS-OLK-FORCEINSPECTOROPEN:"TRUE"
BEGIN:VTIMEZONE
TZID:Europe/Monaco
BEGIN:STANDARD
DTSTART:20211031T010000
TZOFFSETTO:+0100
TZOFFSETFROM:+0200
RRULE:FREQ=YEARLY;BYMONTH=11;BYDAY=1SU
END:STANDARD
BEGIN:DAYLIGHT
DTSTART:20210328T010000
TZOFFSETTO:+0200
TZOFFSETFROM:+0100
RRULE:FREQ=YEARLY;BYMONTH=3;BYDAY=2SU
END:DAYLIGHT
END:VTIMEZONE
BEGIN:VEVENT
UID:1073-b333a58e3d87711b228d2f59ab50090c-principocket.com\n
DTSTART:20211219T110000
DTEND:20211219T110000
TRANSP:TRANSPARENT
IMAGE;VALUE=URI;DISPLAY=;FMTTYPE=image/png:https://app.monacoplatform.
 com/uploads/Ys/YscNZOBlQx.jpg
STATUS:CONFIRMED
SUMMARY:Isadora's Children
DESCRIPTION:Domenica 19 dicembre 2021 alle 11\, Grimaldi Forum Monaco 
 - Salle Camille Blanc\n\nMonaco Dance Forum: Proiezione del film "Les 
 Enfants d’Isadora" de Damien Manivel con Agathe Bonitzer\, Manon Car
 pentier\, Marika Rizzi\, Elsa Wolliaston\, a cura della Compagnia dei 
 Balletti di Monte-Carlo\n\n https://www.principocket.com/it/event/b333
 a58e3d87711b228d2f59ab50090c/isadora-s-children
LOCATION:10\, avenue Princesse Grace
URL:https://www.principocket.com/event/b333a58e3d87711b228d2f59ab50090
 c/1073
DTSTAMP:20260420T104717Z
CREATED:20211210T101854Z
LAST-MODIFIED:20211210T101854Z
END:VEVENT
END:VCALENDAR
