BEGIN:VCALENDAR
VERSION:2.0
PRODID:-//Microsoft Corporation//Outlook 16.0 MIMEDIR//FR
CALSCALE:GREGORIAN
METHOD:PUBLISH
X-WR-TIMEZONE:Europe/Monaco
X-MS-OLK-FORCEINSPECTOROPEN:"TRUE"
BEGIN:VTIMEZONE
TZID:Europe/Monaco
BEGIN:STANDARD
DTSTART:20211031T010000
TZOFFSETTO:+0100
TZOFFSETFROM:+0200
RRULE:FREQ=YEARLY;BYMONTH=11;BYDAY=1SU
END:STANDARD
BEGIN:DAYLIGHT
DTSTART:20210328T010000
TZOFFSETTO:+0200
TZOFFSETFROM:+0100
RRULE:FREQ=YEARLY;BYMONTH=3;BYDAY=2SU
END:DAYLIGHT
END:VTIMEZONE
BEGIN:VEVENT
UID:1072-48885ad2a2af4ee6f0129f3ddef61faa-principocket.com\n
DTSTART:20211218T000000
DTEND:20211220T235900
TRANSP:TRANSPARENT
IMAGE;VALUE=URI;DISPLAY=;FMTTYPE=image/png:https://app.monacoplatform.
 com/uploads/oc/ocqV3QjErH.jpg
STATUS:CONFIRMED
SUMMARY:Monaco Dance Forum
DESCRIPTION:Sabato 18 dicembre alle 19.30 e domenica 19 dicembre 2021 
 alle 15\, Opera di Monte-Carlo - Salle Garnier\n\nMonaco Dance Forum: 
 "La Danse du Soleil"\, rappresentazioni coreografiche di  Geneva Camer
 ata della Compagnia dei Balletti di Monte-Carlo\n\n https://www.princi
 pocket.com/it/event/48885ad2a2af4ee6f0129f3ddef61faa/monaco-dance-foru
 m
LOCATION:Place du Casino
URL:https://www.principocket.com/event/48885ad2a2af4ee6f0129f3ddef61fa
 a/1072
DTSTAMP:20260420T140127Z
CREATED:20211210T101854Z
LAST-MODIFIED:20211210T101854Z
X-MICROSOFT-CDO-ALLDAYEVENT:TRUE
END:VEVENT
END:VCALENDAR
