BEGIN:VCALENDAR
VERSION:2.0
PRODID:-//Microsoft Corporation//Outlook 16.0 MIMEDIR//FR
CALSCALE:GREGORIAN
METHOD:PUBLISH
X-WR-TIMEZONE:Europe/Monaco
X-MS-OLK-FORCEINSPECTOROPEN:"TRUE"
BEGIN:VTIMEZONE
TZID:Europe/Monaco
BEGIN:STANDARD
DTSTART:20211031T010000
TZOFFSETTO:+0100
TZOFFSETFROM:+0200
RRULE:FREQ=YEARLY;BYMONTH=11;BYDAY=1SU
END:STANDARD
BEGIN:DAYLIGHT
DTSTART:20210328T010000
TZOFFSETTO:+0200
TZOFFSETFROM:+0100
RRULE:FREQ=YEARLY;BYMONTH=3;BYDAY=2SU
END:DAYLIGHT
END:VTIMEZONE
BEGIN:VEVENT
UID:1068-4d20b23f5558fa937455f18028cf0d0d-principocket.com\n
DTSTART:20211211T000000
DTEND:20211213T235900
TRANSP:TRANSPARENT
IMAGE;VALUE=URI;DISPLAY=;FMTTYPE=image/png:https://app.monacoplatform.
 com/uploads/7g/7gCV0hSxxx.jpg
STATUS:CONFIRMED
SUMMARY:Monaco Dance Forum
DESCRIPTION:Sabato 11 dicembre alle 19.30 e domenica 12 dicembre 2021 
 alle 15\, Opera di Monte-Carlo - Salle Garnier\n\nMonaco Dance Forum: 
 "L'Heure Exquise"\, rappresentazioni coreografiche di Maurice Béjart 
 della Compagnia dei Balletti di Monte-Carlo\n\n https://www.principock
 et.com/it/event/4d20b23f5558fa937455f18028cf0d0d/monaco-dance-forum
LOCATION:Place du Casino
URL:https://www.principocket.com/event/4d20b23f5558fa937455f18028cf0d0
 d/1068
DTSTAMP:20260424T143433Z
CREATED:20211210T101854Z
LAST-MODIFIED:20211210T101854Z
X-MICROSOFT-CDO-ALLDAYEVENT:TRUE
END:VEVENT
END:VCALENDAR
