BEGIN:VCALENDAR
VERSION:2.0
PRODID:-//Microsoft Corporation//Outlook 16.0 MIMEDIR//FR
CALSCALE:GREGORIAN
METHOD:PUBLISH
X-WR-TIMEZONE:Europe/Monaco
X-MS-OLK-FORCEINSPECTOROPEN:"TRUE"
BEGIN:VTIMEZONE
TZID:Europe/Monaco
BEGIN:STANDARD
DTSTART:20221030T010000
TZOFFSETTO:+0100
TZOFFSETFROM:+0200
RRULE:FREQ=YEARLY;BYMONTH=11;BYDAY=1SU
END:STANDARD
BEGIN:DAYLIGHT
DTSTART:20220327T010000
TZOFFSETTO:+0200
TZOFFSETFROM:+0100
RRULE:FREQ=YEARLY;BYMONTH=3;BYDAY=2SU
END:DAYLIGHT
END:VTIMEZONE
BEGIN:VEVENT
UID:1032-5fbbbe039f852a754f5e55b120ea6ad5-principocket.com\n
DTSTART:20220203T000000
DTEND:20220207T235900
TRANSP:TRANSPARENT
IMAGE;VALUE=URI;DISPLAY=;FMTTYPE=image/png:https://app.monacoplatform.
 com/uploads/wp/wpbFUCTNRn.jpg
STATUS:CONFIRMED
SUMMARY:Vela - Monaco Sportsboat Winter
DESCRIPTION:Da giovedì 3 a domenica 6 febbraio 2022\, Baie de Monaco\
 n\nMonaco Sportsboat Winter Series Act III - J/70\, evento organizzato
  dallo Yacht Club di Monaco\n\n https://www.principocket.com/it/event/
 5fbbbe039f852a754f5e55b120ea6ad5/vela-monaco-sportsboat-winter
LOCATION:
URL:https://www.principocket.com/event/5fbbbe039f852a754f5e55b120ea6ad
 5/1032
DTSTAMP:20260421T042936Z
CREATED:20220124T083114Z
LAST-MODIFIED:20220124T083114Z
X-MICROSOFT-CDO-ALLDAYEVENT:TRUE
END:VEVENT
END:VCALENDAR
