BEGIN:VCALENDAR
VERSION:2.0
PRODID:-//Microsoft Corporation//Outlook 16.0 MIMEDIR//FR
CALSCALE:GREGORIAN
METHOD:PUBLISH
X-WR-TIMEZONE:Europe/Monaco
X-MS-OLK-FORCEINSPECTOROPEN:"TRUE"
BEGIN:VTIMEZONE
TZID:Europe/Monaco
BEGIN:STANDARD
DTSTART:20221030T010000
TZOFFSETTO:+0100
TZOFFSETFROM:+0200
RRULE:FREQ=YEARLY;BYMONTH=11;BYDAY=1SU
END:STANDARD
BEGIN:DAYLIGHT
DTSTART:20220327T010000
TZOFFSETTO:+0200
TZOFFSETFROM:+0100
RRULE:FREQ=YEARLY;BYMONTH=3;BYDAY=2SU
END:DAYLIGHT
END:VTIMEZONE
BEGIN:VEVENT
UID:1026-54013787921b915125076fcee4a62f16-principocket.com\n
DTSTART:20220120T200000
DTEND:20220120T200000
TRANSP:TRANSPARENT
IMAGE;VALUE=URI;DISPLAY=;FMTTYPE=image/png:https://app.monacoplatform.
 com/uploads/hP/hPn1EAVBaO.jpg
STATUS:CONFIRMED
SUMMARY:Recital di Pianoforte
DESCRIPTION:Giovedì 20 gennaio 2022\, alle 20h\, Auditorium Rainier I
 II\n\nSerie Grande Stagione: recital di pianoforte con Mikhaïl Pletne
 v. In programma: Frédéric Chopin\n\n https://www.principocket.com/it
 /event/54013787921b915125076fcee4a62f16/recital-di-pianoforte
LOCATION:Boulevard Louis II
URL:https://www.principocket.com/event/54013787921b915125076fcee4a62f1
 6/1026
DTSTAMP:20260420T192825Z
CREATED:20220117T085732Z
LAST-MODIFIED:20220117T085732Z
END:VEVENT
END:VCALENDAR
