BEGIN:VCALENDAR
VERSION:2.0
PRODID:-//Microsoft Corporation//Outlook 16.0 MIMEDIR//FR
CALSCALE:GREGORIAN
METHOD:PUBLISH
X-WR-TIMEZONE:Europe/Monaco
X-MS-OLK-FORCEINSPECTOROPEN:"TRUE"
BEGIN:VTIMEZONE
TZID:Europe/Monaco
BEGIN:STANDARD
DTSTART:20221030T010000
TZOFFSETTO:+0100
TZOFFSETFROM:+0200
RRULE:FREQ=YEARLY;BYMONTH=11;BYDAY=1SU
END:STANDARD
BEGIN:DAYLIGHT
DTSTART:20220327T010000
TZOFFSETTO:+0200
TZOFFSETFROM:+0100
RRULE:FREQ=YEARLY;BYMONTH=3;BYDAY=2SU
END:DAYLIGHT
END:VTIMEZONE
BEGIN:VEVENT
UID:1025-9c682e413cdfb48690ca2133078ebd3c-principocket.com\n
DTSTART:20220116T180000
DTEND:20220116T180000
TRANSP:TRANSPARENT
IMAGE;VALUE=URI;DISPLAY=;FMTTYPE=image/png:https://app.monacoplatform.
 com/uploads/3o/3osBr-e7_q.jpg
STATUS:CONFIRMED
SUMMARY:Concerto sinfonico
DESCRIPTION:Domenica 16 gennaio 2022 alle 18\, Auditorium Rainier III\
 n\nSerie Grande Stagione: concerto sinfonico dell’Orchestra Filarmon
 ica di Monte-Carlo diretta da Cristian Măcelaru con Valeriy Sokolov\,
  violino. In programma: Béla Bartok\, Sergueï Prokofiev\, Alexandre 
 Scriabine\, Mili Balakirev e Sergueï Lyapunov\n\n https://www.princip
 ocket.com/it/event/9c682e413cdfb48690ca2133078ebd3c/concerto-sinfonico
LOCATION:Boulevard Louis II
URL:https://www.principocket.com/event/9c682e413cdfb48690ca2133078ebd3
 c/1025
DTSTAMP:20260422T104246Z
CREATED:20220106T080346Z
LAST-MODIFIED:20220106T080346Z
END:VEVENT
END:VCALENDAR
