BEGIN:VCALENDAR
VERSION:2.0
PRODID:-//Microsoft Corporation//Outlook 16.0 MIMEDIR//FR
CALSCALE:GREGORIAN
METHOD:PUBLISH
X-WR-TIMEZONE:Europe/Monaco
X-MS-OLK-FORCEINSPECTOROPEN:"TRUE"
BEGIN:VTIMEZONE
TZID:Europe/Monaco
BEGIN:STANDARD
DTSTART:20221030T010000
TZOFFSETTO:+0100
TZOFFSETFROM:+0200
RRULE:FREQ=YEARLY;BYMONTH=11;BYDAY=1SU
END:STANDARD
BEGIN:DAYLIGHT
DTSTART:20220327T010000
TZOFFSETTO:+0200
TZOFFSETFROM:+0100
RRULE:FREQ=YEARLY;BYMONTH=3;BYDAY=2SU
END:DAYLIGHT
END:VTIMEZONE
BEGIN:VEVENT
UID:1024-b06d410b129c8c109d1ee2c8f83f891a-principocket.com\n
DTSTART:20220109T180000
DTEND:20220109T180000
TRANSP:TRANSPARENT
IMAGE;VALUE=URI;DISPLAY=;FMTTYPE=image/png:https://app.monacoplatform.
 com/uploads/H5/H5TXZoRfQJ.jpg
STATUS:CONFIRMED
SUMMARY:Concerto sinfonico
DESCRIPTION:Domenica 9 gennaio 2022 alle 18\, Auditorium Rainier III\n
 \nSerie Grande Stagione: Concerto sinfonico dell'Orchestra Filarmonica
  di Monte-Carlo diretta da Charles Dutoit con Martha Argerich\, pianof
 orte. In programma: Ravel Maurice e Stravinsky Igor\n\n https://www.pr
 incipocket.com/it/event/b06d410b129c8c109d1ee2c8f83f891a/concerto-sinf
 onico
LOCATION:Boulevard Louis II
URL:https://www.principocket.com/event/b06d410b129c8c109d1ee2c8f83f891
 a/1024
DTSTAMP:20260420T134133Z
CREATED:20220106T080345Z
LAST-MODIFIED:20220106T080345Z
END:VEVENT
END:VCALENDAR
