BEGIN:VCALENDAR
VERSION:2.0
PRODID:-//Microsoft Corporation//Outlook 16.0 MIMEDIR//FR
CALSCALE:GREGORIAN
METHOD:PUBLISH
X-WR-TIMEZONE:Europe/Monaco
X-MS-OLK-FORCEINSPECTOROPEN:"TRUE"
BEGIN:VTIMEZONE
TZID:Europe/Monaco
BEGIN:STANDARD
DTSTART:20211031T010000
TZOFFSETTO:+0100
TZOFFSETFROM:+0200
RRULE:FREQ=YEARLY;BYMONTH=11;BYDAY=1SU
END:STANDARD
BEGIN:DAYLIGHT
DTSTART:20210328T010000
TZOFFSETTO:+0200
TZOFFSETFROM:+0100
RRULE:FREQ=YEARLY;BYMONTH=3;BYDAY=2SU
END:DAYLIGHT
END:VTIMEZONE
BEGIN:VEVENT
UID:919-0c7df2386850989edc28edceb5a9cc56-principocket.com\n
DTSTART:20210630T000000
DTEND:20210701T235900
TRANSP:TRANSPARENT
IMAGE;VALUE=URI;DISPLAY=;FMTTYPE=image/png:https://app.monacoplatform.
 com/uploads/tA/tAWvyeJBxf.jpg
STATUS:CONFIRMED
SUMMARY:Parler d'amour
DESCRIPTION:Mercredi 30 juin 2021\, Fort Antoine\n\n51ème édition du
  Théâtre du Fort Antoine: "Parler d'amour" avec Joseph Cohen et Raph
 ael Zagury-Orlyles\, Membres Fondateurs des Rencontres Philosophiques 
 de Monaco\n\n https://www.principocket.com/fr/event/0c7df2386850989edc
 28edceb5a9cc56/parler-d-amour
LOCATION:Avenue de la Quarantaine
URL:https://www.principocket.com/event/0c7df2386850989edc28edceb5a9cc56/919
DTSTAMP:20260420T104647Z
CREATED:20210618T122957Z
LAST-MODIFIED:20210618T122957Z
X-MICROSOFT-CDO-ALLDAYEVENT:TRUE
END:VEVENT
END:VCALENDAR
