BEGIN:VCALENDAR
VERSION:2.0
PRODID:-//Microsoft Corporation//Outlook 16.0 MIMEDIR//FR
CALSCALE:GREGORIAN
METHOD:PUBLISH
X-WR-TIMEZONE:Europe/Monaco
X-MS-OLK-FORCEINSPECTOROPEN:"TRUE"
BEGIN:VTIMEZONE
TZID:Europe/Monaco
BEGIN:STANDARD
DTSTART:20211031T010000
TZOFFSETTO:+0100
TZOFFSETFROM:+0200
RRULE:FREQ=YEARLY;BYMONTH=11;BYDAY=1SU
END:STANDARD
BEGIN:DAYLIGHT
DTSTART:20210328T010000
TZOFFSETTO:+0200
TZOFFSETFROM:+0100
RRULE:FREQ=YEARLY;BYMONTH=3;BYDAY=2SU
END:DAYLIGHT
END:VTIMEZONE
BEGIN:VEVENT
UID:807-1d64b69b6c87a70595daaeb319e47a0a-principocket.com\n
DTSTART:20210729T213000
DTEND:20210729T213000
TRANSP:TRANSPARENT
IMAGE;VALUE=URI;DISPLAY=;FMTTYPE=image/png:https://app.monacoplatform.
 com/uploads/1h/1h5ZQakjCu.jpg
STATUS:CONFIRMED
SUMMARY:Orchestre Philharmonique de Monte-Carlo
DESCRIPTION:Jeudi 29 juillet 2021\, à 21h30\, Palais Princier - Cour 
 d'Honneur\n\nConcert symphonique par l'Orchestre Philharmonique de Mon
 te-Carlo sous la direction de Thomas Hengelbrock. Au programme : Wolfg
 ang Amadeus Mozart et Félix Mendelssohn\n\n https://www.principocket.
 com/fr/event/1d64b69b6c87a70595daaeb319e47a0a/orchestre-philharmonique
 -de-monte-carlo
LOCATION:98015 Monaco
URL:https://www.principocket.com/event/1d64b69b6c87a70595daaeb319e47a0a/807
DTSTAMP:20260421T082447Z
CREATED:20210719T071546Z
LAST-MODIFIED:20210719T071546Z
END:VEVENT
END:VCALENDAR
