BEGIN:VCALENDAR
VERSION:2.0
PRODID:-//Microsoft Corporation//Outlook 16.0 MIMEDIR//FR
CALSCALE:GREGORIAN
METHOD:PUBLISH
X-WR-TIMEZONE:Europe/Monaco
X-MS-OLK-FORCEINSPECTOROPEN:"TRUE"
BEGIN:VTIMEZONE
TZID:Europe/Monaco
BEGIN:STANDARD
DTSTART:20211031T010000
TZOFFSETTO:+0100
TZOFFSETFROM:+0200
RRULE:FREQ=YEARLY;BYMONTH=11;BYDAY=1SU
END:STANDARD
BEGIN:DAYLIGHT
DTSTART:20210328T010000
TZOFFSETTO:+0200
TZOFFSETFROM:+0100
RRULE:FREQ=YEARLY;BYMONTH=3;BYDAY=2SU
END:DAYLIGHT
END:VTIMEZONE
BEGIN:VEVENT
UID:803-4a303508631df17aac76d2b182dbea98-principocket.com\n
DTSTART:20210531T000000
DTEND:20210606T235900
TRANSP:TRANSPARENT
IMAGE;VALUE=URI;DISPLAY=;FMTTYPE=image/png:https://app.monacoplatform.
 com/uploads/mO/mOkHeDLrEK.jpg
STATUS:CONFIRMED
SUMMARY:Monte-Carlo Film Festival de la Comédie 2021
DESCRIPTION:Du lundi 31 mai au samedi 5 juin 2021\, Grimaldi Forum Mon
 aco\n\nMonte-Carlo Film Festival de la comédie 2021 : La 18ème édit
 ion du festival de Monaco\, dirigée et conçue par Ezio Greggio aura 
 lieu du 31 Mai au 5 Juin 2021.\n\n https://www.principocket.com/fr/eve
 nt/4a303508631df17aac76d2b182dbea98/monte-carlo-film-festival-de-la-co
 medie-2021
LOCATION:10\, avenue Princesse Grace
URL:https://www.principocket.com/event/4a303508631df17aac76d2b182dbea98/803
DTSTAMP:20260420T123542Z
CREATED:20210526T073908Z
LAST-MODIFIED:20210526T073908Z
X-MICROSOFT-CDO-ALLDAYEVENT:TRUE
END:VEVENT
END:VCALENDAR
