BEGIN:VCALENDAR
VERSION:2.0
PRODID:-//Microsoft Corporation//Outlook 16.0 MIMEDIR//FR
CALSCALE:GREGORIAN
METHOD:PUBLISH
X-WR-TIMEZONE:Europe/Monaco
X-MS-OLK-FORCEINSPECTOROPEN:"TRUE"
BEGIN:VTIMEZONE
TZID:Europe/Monaco
BEGIN:STANDARD
DTSTART:20211031T010000
TZOFFSETTO:+0100
TZOFFSETFROM:+0200
RRULE:FREQ=YEARLY;BYMONTH=11;BYDAY=1SU
END:STANDARD
BEGIN:DAYLIGHT
DTSTART:20210328T010000
TZOFFSETTO:+0200
TZOFFSETFROM:+0100
RRULE:FREQ=YEARLY;BYMONTH=3;BYDAY=2SU
END:DAYLIGHT
END:VTIMEZONE
BEGIN:VEVENT
UID:794-156a7fb6b47477289628cc4857855a21-principocket.com\n
DTSTART:20210205T140000
DTEND:20210208T163000
TRANSP:TRANSPARENT
IMAGE;VALUE=URI;DISPLAY=;FMTTYPE=image/png:https://app.monacoplatform.
 com/uploads/Sv/SvFR5Qof54.png
STATUS:CONFIRMED
SUMMARY:Belcanto
DESCRIPTION:\n\nConcert • Karine Deshayes et Marina Rebeka\n\n https
 ://www.principocket.com/fr/event/156a7fb6b47477289628cc4857855a21/belc
 anto
LOCATION:Boulevard Louis II
URL:https://www.principocket.com/event/156a7fb6b47477289628cc4857855a21/794
DTSTAMP:20260423T075757Z
CREATED:20210204T085700Z
LAST-MODIFIED:20210204T085700Z
END:VEVENT
END:VCALENDAR
