BEGIN:VCALENDAR
VERSION:2.0
PRODID:-//Microsoft Corporation//Outlook 16.0 MIMEDIR//FR
CALSCALE:GREGORIAN
METHOD:PUBLISH
X-WR-TIMEZONE:Europe/Monaco
X-MS-OLK-FORCEINSPECTOROPEN:"TRUE"
BEGIN:VTIMEZONE
TZID:Europe/Monaco
BEGIN:STANDARD
DTSTART:20211031T010000
TZOFFSETTO:+0100
TZOFFSETFROM:+0200
RRULE:FREQ=YEARLY;BYMONTH=11;BYDAY=1SU
END:STANDARD
BEGIN:DAYLIGHT
DTSTART:20210328T010000
TZOFFSETTO:+0200
TZOFFSETFROM:+0100
RRULE:FREQ=YEARLY;BYMONTH=3;BYDAY=2SU
END:DAYLIGHT
END:VTIMEZONE
BEGIN:VEVENT
UID:792-db6ca8d80bf325c16981129c78ccbc69-principocket.com\n
DTSTART:20210722T213000
DTEND:20210722T213000
TRANSP:TRANSPARENT
IMAGE;VALUE=URI;DISPLAY=;FMTTYPE=image/png:https://app.monacoplatform.
 com/uploads/-7/-7w53PKfsv.jpg
STATUS:CONFIRMED
SUMMARY:Orchestre Philharmonique de Monte-Carlo
DESCRIPTION:Jeudi 22 juillet 2021\, à 21h30\, Palais Princier - Cour 
 d'Honneur\n\nConcert symphonique par l'Orchestre Philharmonique de Mon
 te-Carlo sous la direction de Tomas Netopil avec Katia et Marielle Lab
 èque\, piano. Au programme : Maurice Ravel et Françis Poulenc\n\n ht
 tps://www.principocket.com/fr/event/db6ca8d80bf325c16981129c78ccbc69/o
 rchestre-philharmonique-de-monte-carlo
LOCATION:98015 Monaco
URL:https://www.principocket.com/event/db6ca8d80bf325c16981129c78ccbc69/792
DTSTAMP:20260423T062125Z
CREATED:20210719T071546Z
LAST-MODIFIED:20210719T071546Z
END:VEVENT
END:VCALENDAR
