BEGIN:VCALENDAR
VERSION:2.0
PRODID:-//Microsoft Corporation//Outlook 16.0 MIMEDIR//FR
CALSCALE:GREGORIAN
METHOD:PUBLISH
X-WR-TIMEZONE:Europe/Monaco
X-MS-OLK-FORCEINSPECTOROPEN:"TRUE"
BEGIN:VTIMEZONE
TZID:Europe/Monaco
BEGIN:STANDARD
DTSTART:20211031T010000
TZOFFSETTO:+0100
TZOFFSETFROM:+0200
RRULE:FREQ=YEARLY;BYMONTH=11;BYDAY=1SU
END:STANDARD
BEGIN:DAYLIGHT
DTSTART:20210328T010000
TZOFFSETTO:+0200
TZOFFSETFROM:+0100
RRULE:FREQ=YEARLY;BYMONTH=3;BYDAY=2SU
END:DAYLIGHT
END:VTIMEZONE
BEGIN:VEVENT
UID:789-8389b8770742b74cfab2feae1ac86a9d-principocket.com\n
DTSTART:20210703T100000
DTEND:20210830T200000
TRANSP:TRANSPARENT
IMAGE;VALUE=URI;DISPLAY=;FMTTYPE=image/png:https://app.monacoplatform.
 com/uploads/O1/O12ifmU3VC.jpg
STATUS:CONFIRMED
SUMMARY:Exposition Alberto Giacometti - Une Rétrospective
DESCRIPTION:Du samedi 3 juillet au dimanche 29 août 2021\, de 10h à 
 20h\, nocturnes les mardis et jeudis jusqu’à 22h\, Grimaldi Forum M
 onaco\n\nLa grande exposition estivale du Grimaldi Forum approche à g
 rands pas !\n\n https://www.principocket.com/fr/event/8389b8770742b74c
 fab2feae1ac86a9d/exposition-alberto-giacometti-une-retrospective
LOCATION:10\, avenue Princesse Grace
URL:https://www.principocket.com/event/8389b8770742b74cfab2feae1ac86a9d/789
DTSTAMP:20260423T012105Z
CREATED:20210823T082121Z
LAST-MODIFIED:20210823T082121Z
END:VEVENT
END:VCALENDAR
