BEGIN:VCALENDAR
VERSION:2.0
PRODID:-//Microsoft Corporation//Outlook 16.0 MIMEDIR//FR
CALSCALE:GREGORIAN
METHOD:PUBLISH
X-WR-TIMEZONE:Europe/Monaco
X-MS-OLK-FORCEINSPECTOROPEN:"TRUE"
BEGIN:VTIMEZONE
TZID:Europe/Monaco
BEGIN:STANDARD
DTSTART:20211031T010000
TZOFFSETTO:+0100
TZOFFSETFROM:+0200
RRULE:FREQ=YEARLY;BYMONTH=11;BYDAY=1SU
END:STANDARD
BEGIN:DAYLIGHT
DTSTART:20210328T010000
TZOFFSETTO:+0200
TZOFFSETFROM:+0100
RRULE:FREQ=YEARLY;BYMONTH=3;BYDAY=2SU
END:DAYLIGHT
END:VTIMEZONE
BEGIN:VEVENT
UID:782-922d20a4f1df8dc6625c24a33cb6ac20-principocket.com\n
DTSTART:20210316T170000
DTEND:20210316T170000
TRANSP:TRANSPARENT
IMAGE;VALUE=URI;DISPLAY=;FMTTYPE=image/png:https://app.monacoplatform.
 com/uploads/vc/vcTubPmDJi.jpg
STATUS:CONFIRMED
SUMMARY:Thé Littéraire
DESCRIPTION:Mardi 16 mars 2021\, à 17h\, Médiathèque de Monaco - Bi
 bliothèque Louis Notari\n\nThé Littéraire : Un échange sur les lec
 tures en toute décontraction !\n\n https://www.principocket.com/fr/ev
 ent/922d20a4f1df8dc6625c24a33cb6ac20/the-litteraire
LOCATION:5 Promenade Honoré II\, Monaco
URL:https://www.principocket.com/event/922d20a4f1df8dc6625c24a33cb6ac20/782
DTSTAMP:20260420T140129Z
CREATED:20210219T174118Z
LAST-MODIFIED:20210219T174118Z
END:VEVENT
END:VCALENDAR
