BEGIN:VCALENDAR
VERSION:2.0
PRODID:-//Microsoft Corporation//Outlook 16.0 MIMEDIR//FR
CALSCALE:GREGORIAN
METHOD:PUBLISH
X-WR-TIMEZONE:Europe/Monaco
X-MS-OLK-FORCEINSPECTOROPEN:"TRUE"
BEGIN:VTIMEZONE
TZID:Europe/Monaco
BEGIN:STANDARD
DTSTART:20211031T010000
TZOFFSETTO:+0100
TZOFFSETFROM:+0200
RRULE:FREQ=YEARLY;BYMONTH=11;BYDAY=1SU
END:STANDARD
BEGIN:DAYLIGHT
DTSTART:20210328T010000
TZOFFSETTO:+0200
TZOFFSETFROM:+0100
RRULE:FREQ=YEARLY;BYMONTH=3;BYDAY=2SU
END:DAYLIGHT
END:VTIMEZONE
BEGIN:VEVENT
UID:657-cd32c57b90911a6f4a559fd6af4738ce-principocket.com\n
DTSTART:20210327T150000
DTEND:20210327T150000
TRANSP:TRANSPARENT
IMAGE;VALUE=URI;DISPLAY=;FMTTYPE=image/png:https://app.monacoplatform.
 com/uploads/tL/tL9N6JFgcN.jpg
STATUS:CONFIRMED
SUMMARY:It must be heaven
DESCRIPTION:Samedi 27 mars 2021\, à 15h\, Théâtre des Variétés\n\
 nTout l'art du cinéma - Cinéma et Méditerranée. Projection du film
  "It Must Be Heaven" d'Elia Suleiman (2019)\, organisée par l'Institu
 t audiovisuel de Monaco en partenariat avec les Rencontres Internation
 ales Monaco et la Méditerranée\n\n https://www.principocket.com/fr/e
 vent/cd32c57b90911a6f4a559fd6af4738ce/it-must-be-heaven
LOCATION:1\, boulevard Albert Ier
URL:https://www.principocket.com/event/cd32c57b90911a6f4a559fd6af4738ce/657
DTSTAMP:20260420T121747Z
CREATED:20210323T181657Z
LAST-MODIFIED:20210323T181657Z
END:VEVENT
END:VCALENDAR
