BEGIN:VCALENDAR
VERSION:2.0
PRODID:-//Microsoft Corporation//Outlook 16.0 MIMEDIR//FR
CALSCALE:GREGORIAN
METHOD:PUBLISH
X-WR-TIMEZONE:Europe/Monaco
X-MS-OLK-FORCEINSPECTOROPEN:"TRUE"
BEGIN:VTIMEZONE
TZID:Europe/Monaco
BEGIN:STANDARD
DTSTART:20261025T010000
TZOFFSETTO:+0100
TZOFFSETFROM:+0200
RRULE:FREQ=YEARLY;BYMONTH=11;BYDAY=1SU
END:STANDARD
BEGIN:DAYLIGHT
DTSTART:20260329T010000
TZOFFSETTO:+0200
TZOFFSETFROM:+0100
RRULE:FREQ=YEARLY;BYMONTH=3;BYDAY=2SU
END:DAYLIGHT
END:VTIMEZONE
BEGIN:VEVENT
UID:6323-a28558fbd85e157f8680c3d731d9fc70-principocket.com\n
DTSTART:20260509T093000
DTEND:20260511T180000
TRANSP:TRANSPARENT
IMAGE;VALUE=URI;DISPLAY=;FMTTYPE=image/png:https://app.monacoplatform.
 com/uploads/L9/L9Vn93vXni.png
STATUS:CONFIRMED
SUMMARY:57ème Concours International de Bouquets
DESCRIPTION:Du samedi 9\, 09h30 au dimanche 10 mai 2026\, 18h - Yacht 
 Club de Monaco\n\nLe Garden Club de Monaco\, fondé en 1968 par la Pri
 ncesse Grace de Monaco\, présente la 57ème édition du Concours Inte
 rnational de Bouquets\, placée sous le thème « CELESTE ».\nOrganis
 é sous le Haut Patronage de S.A.S. le Prince Albert II et la Préside
 nce de S.A.R. la Princesse de Hanovre\, cet événement met à l’hon
 neur l’art floral dans le cadre prestigieux du Yacht Club de Monaco.
 \n\n https://www.principocket.com/fr/event/a28558fbd85e157f8680c3d731d
 9fc70/57eme-concours-international-de-bouquets
LOCATION:Quai Louis II
URL:https://www.principocket.com/event/a28558fbd85e157f8680c3d731d9fc7
 0/6323
DTSTAMP:20260424T160205Z
CREATED:20260423T230003Z
LAST-MODIFIED:20260423T230003Z
END:VEVENT
END:VCALENDAR
