BEGIN:VCALENDAR
VERSION:2.0
PRODID:-//Microsoft Corporation//Outlook 16.0 MIMEDIR//FR
CALSCALE:GREGORIAN
METHOD:PUBLISH
X-WR-TIMEZONE:Europe/Monaco
X-MS-OLK-FORCEINSPECTOROPEN:"TRUE"
BEGIN:VTIMEZONE
TZID:Europe/Monaco
BEGIN:STANDARD
DTSTART:20261025T010000
TZOFFSETTO:+0100
TZOFFSETFROM:+0200
RRULE:FREQ=YEARLY;BYMONTH=11;BYDAY=1SU
END:STANDARD
BEGIN:DAYLIGHT
DTSTART:20260329T010000
TZOFFSETTO:+0200
TZOFFSETFROM:+0100
RRULE:FREQ=YEARLY;BYMONTH=3;BYDAY=2SU
END:DAYLIGHT
END:VTIMEZONE
BEGIN:VEVENT
UID:6320-4c4b1ca9c3c232ce42b9eb0e5c1e8770-principocket.com\n
DTSTART:20260424T143000
DTEND:20260424T143000
TRANSP:TRANSPARENT
IMAGE;VALUE=URI;DISPLAY=;FMTTYPE=image/png:https://app.monacoplatform.
 com/uploads/sz/szrOl66FW6.png
STATUS:CONFIRMED
SUMMARY:Bonhams|Cars : Vente aux enchères  d’automobiles de compét
 iton d'époque
DESCRIPTION:Vendredi 24 avril 2026 à 14h30 - Hôtel Fairmont Monte Ca
 rlo\n\nBonhams|Cars donnera le coup d'envoi de sa prochaine vente à M
 onaco lors du 15e Grand Prix de Monaco Historique\, avec une vaste sé
 lection d’automobiles de compétiton d'époque\, de la Formule 1 au 
 rallye en passant par le DTM\, le tout\, accompagné par une sélectio
 n d’hypercars modernes extrêmement rares et de certains des plus gr
 ands classiques de l’automobile.\n\n https://www.principocket.com/fr
 /event/4c4b1ca9c3c232ce42b9eb0e5c1e8770/bonhams-cars-vente-aux-enchere
 s-d-automobiles-de-competiton-d-epoque
LOCATION:12\, avenue des Spélugues
URL:https://www.principocket.com/event/4c4b1ca9c3c232ce42b9eb0e5c1e877
 0/6320
DTSTAMP:20260424T143827Z
CREATED:20260423T124049Z
LAST-MODIFIED:20260423T124049Z
END:VEVENT
END:VCALENDAR
