BEGIN:VCALENDAR
VERSION:2.0
PRODID:-//Microsoft Corporation//Outlook 16.0 MIMEDIR//FR
CALSCALE:GREGORIAN
METHOD:PUBLISH
X-WR-TIMEZONE:Europe/Monaco
X-MS-OLK-FORCEINSPECTOROPEN:"TRUE"
BEGIN:VTIMEZONE
TZID:Europe/Monaco
BEGIN:STANDARD
DTSTART:20261025T010000
TZOFFSETTO:+0100
TZOFFSETFROM:+0200
RRULE:FREQ=YEARLY;BYMONTH=11;BYDAY=1SU
END:STANDARD
BEGIN:DAYLIGHT
DTSTART:20260329T010000
TZOFFSETTO:+0200
TZOFFSETFROM:+0100
RRULE:FREQ=YEARLY;BYMONTH=3;BYDAY=2SU
END:DAYLIGHT
END:VTIMEZONE
BEGIN:VEVENT
UID:6311-6e17380680f99d0c8ce7720ae217ea0f-principocket.com\n
DTSTART:20260702T000000
DTEND:20260705T235900
TRANSP:TRANSPARENT
IMAGE;VALUE=URI;DISPLAY=;FMTTYPE=image/png:https://app.monacoplatform.
 com/uploads/kV/kVZ1ZEnpHT.png
STATUS:CONFIRMED
SUMMARY:20ème Jumping International de Monte-Carlo 2026
DESCRIPTION:Du jeudi 2 au samedi 4 juillet 2026 - Port Hercule de Mona
 co\n\nEn 2026\, le Jumping International de Monte-Carlo entre dans une
  dimension tout à fait exceptionnelle. Cette édition anniversaire c
 élèbre 20 ans d'excellence\, de passion et d'émotion au cœur de la
  Principauté\, vingt années durant lesquelles l'événement s'est im
 posé comme l'un des rendez-vous les plus emblématiques du calendrier
  équestre international.\n\n https://www.principocket.com/fr/event/6e
 17380680f99d0c8ce7720ae217ea0f/20eme-jumping-international-de-monte-ca
 rlo-2026
LOCATION:Port Hercule\, Monaco
URL:https://www.principocket.com/event/6e17380680f99d0c8ce7720ae217ea0
 f/6311
DTSTAMP:20260422T174205Z
CREATED:20260422T133403Z
LAST-MODIFIED:20260422T133403Z
X-MICROSOFT-CDO-ALLDAYEVENT:TRUE
END:VEVENT
END:VCALENDAR
