BEGIN:VCALENDAR
VERSION:2.0
PRODID:-//Microsoft Corporation//Outlook 16.0 MIMEDIR//FR
CALSCALE:GREGORIAN
METHOD:PUBLISH
X-WR-TIMEZONE:Europe/Monaco
X-MS-OLK-FORCEINSPECTOROPEN:"TRUE"
BEGIN:VTIMEZONE
TZID:Europe/Monaco
BEGIN:STANDARD
DTSTART:20261025T010000
TZOFFSETTO:+0100
TZOFFSETFROM:+0200
RRULE:FREQ=YEARLY;BYMONTH=11;BYDAY=1SU
END:STANDARD
BEGIN:DAYLIGHT
DTSTART:20260329T010000
TZOFFSETTO:+0200
TZOFFSETFROM:+0100
RRULE:FREQ=YEARLY;BYMONTH=3;BYDAY=2SU
END:DAYLIGHT
END:VTIMEZONE
BEGIN:VEVENT
UID:6308-4c14a9b532e8df9b602526dd40ab4b09-principocket.com\n
DTSTART:20260709T213000
DTEND:20260709T230000
TRANSP:TRANSPARENT
IMAGE;VALUE=URI;DISPLAY=;FMTTYPE=image/png:https://app.monacoplatform.
 com/uploads/N4/N4CyaCaujV.JPG
STATUS:CONFIRMED
SUMMARY:Concert au Palais Princier
DESCRIPTION:Jeudi 9 juillet 2026 de 21h30 à 23h - Palais Princier\n\n
 Créés à l’initiative du Prince Rainier III et de la Princesse Gra
 ce\, les concerts donnés dans le cadre exceptionnel de la Cour d’Ho
 nneur du Palais Princier constituent la série de prestige\, point d
 ’orgue de la saison de l’Orchestre Philharmonique de Monte-Carlo.D
 epuis plus de soixante ans\, chaque été de la mi-juillet à début a
 oût\, S.A.S. le Prince Souverain invite l’Orchestre Philharmonique 
 de Monte-Carlo et les plus grands chefs et solistes internationaux à 
 se produire dans ce lieu d’exception.\n\n https://www.principocket.c
 om/fr/event/4c14a9b532e8df9b602526dd40ab4b09/concert-au-palais-princie
 r
LOCATION:Place du Palais
URL:https://www.principocket.com/event/4c14a9b532e8df9b602526dd40ab4b0
 9/6308
DTSTAMP:20260421T140538Z
CREATED:20260421T140404Z
LAST-MODIFIED:20260421T140404Z
END:VEVENT
END:VCALENDAR
