BEGIN:VCALENDAR
VERSION:2.0
PRODID:-//Microsoft Corporation//Outlook 16.0 MIMEDIR//FR
CALSCALE:GREGORIAN
METHOD:PUBLISH
X-WR-TIMEZONE:Europe/Monaco
X-MS-OLK-FORCEINSPECTOROPEN:"TRUE"
BEGIN:VTIMEZONE
TZID:Europe/Monaco
BEGIN:STANDARD
DTSTART:20261025T010000
TZOFFSETTO:+0100
TZOFFSETFROM:+0200
RRULE:FREQ=YEARLY;BYMONTH=11;BYDAY=1SU
END:STANDARD
BEGIN:DAYLIGHT
DTSTART:20260329T010000
TZOFFSETTO:+0200
TZOFFSETFROM:+0100
RRULE:FREQ=YEARLY;BYMONTH=3;BYDAY=2SU
END:DAYLIGHT
END:VTIMEZONE
BEGIN:VEVENT
UID:6306-046418a4437dcb54dd4ae7e8c11fc8b6-principocket.com\n
DTSTART:20260726T213000
DTEND:20260726T230000
TRANSP:TRANSPARENT
IMAGE;VALUE=URI;DISPLAY=;FMTTYPE=image/png:https://app.monacoplatform.
 com/uploads/1r/1rkJLLt7G-.jpg
STATUS:CONFIRMED
SUMMARY:Concert au Palais Princier
DESCRIPTION:Dimanche 26 juillet 2026 de 21h30 à 23h - Palais Princier
 \n\nCréés à l’initiative du Prince Rainier III et de la Princesse
  Grace\, les concerts donnés dans le cadre exceptionnel de la Cour d
 ’Honneur du Palais Princier constituent la série de prestige\, poin
 t d’orgue de la saison de l’Orchestre Philharmonique de Monte-Carl
 o.Depuis plus de soixante ans\, chaque été de la mi-juillet à débu
 t août\, S.A.S. le Prince Souverain invite l’Orchestre Philharmoniq
 ue de Monte-Carlo et les plus grands chefs et solistes internationaux 
 à se produire dans ce lieu d’exception.\n\n https://www.principocke
 t.com/fr/event/046418a4437dcb54dd4ae7e8c11fc8b6/concert-au-palais-prin
 cier
LOCATION:Place du Palais
URL:https://www.principocket.com/event/046418a4437dcb54dd4ae7e8c11fc8b
 6/6306
DTSTAMP:20260421T165422Z
CREATED:20260421T140404Z
LAST-MODIFIED:20260421T140404Z
END:VEVENT
END:VCALENDAR
