BEGIN:VCALENDAR
VERSION:2.0
PRODID:-//Microsoft Corporation//Outlook 16.0 MIMEDIR//FR
CALSCALE:GREGORIAN
METHOD:PUBLISH
X-WR-TIMEZONE:Europe/Monaco
X-MS-OLK-FORCEINSPECTOROPEN:"TRUE"
BEGIN:VTIMEZONE
TZID:Europe/Monaco
BEGIN:STANDARD
DTSTART:20261025T010000
TZOFFSETTO:+0100
TZOFFSETFROM:+0200
RRULE:FREQ=YEARLY;BYMONTH=11;BYDAY=1SU
END:STANDARD
BEGIN:DAYLIGHT
DTSTART:20260329T010000
TZOFFSETTO:+0200
TZOFFSETFROM:+0100
RRULE:FREQ=YEARLY;BYMONTH=3;BYDAY=2SU
END:DAYLIGHT
END:VTIMEZONE
BEGIN:VEVENT
UID:6301-be4d8667e9c3b6a3132efe5993541f15-principocket.com\n
DTSTART:20260618T150000
DTEND:20260618T163000
TRANSP:TRANSPARENT
IMAGE;VALUE=URI;DISPLAY=;FMTTYPE=image/png:https://app.monacoplatform.
 com/uploads/sb/sbfjTkmV0Q.png
STATUS:CONFIRMED
SUMMARY:Lire, découvrir, rencontrer : présentation des romans sélec
 tionnés pour la Bourse de la Découverte de la Fondation Prince Pierr
 e
DESCRIPTION:Jeudi 18 juin 2026 de 15h à 16h30 - Médiathèque Carolin
 e\n\n\n\n https://www.principocket.com/fr/event/be4d8667e9c3b6a3132efe
 5993541f15/lire-decouvrir-rencontrer-presentation-des-romans-selection
 nes-pour-la-bourse-de-la-decouverte-de-la-fondation-prince-pierre
LOCATION:5 Promenade Honoré II\, Monaco
URL:https://www.principocket.com/event/be4d8667e9c3b6a3132efe5993541f1
 5/6301
DTSTAMP:20260422T153819Z
CREATED:20260421T140404Z
LAST-MODIFIED:20260421T140404Z
END:VEVENT
END:VCALENDAR
