BEGIN:VCALENDAR
VERSION:2.0
PRODID:-//Microsoft Corporation//Outlook 16.0 MIMEDIR//FR
CALSCALE:GREGORIAN
METHOD:PUBLISH
X-WR-TIMEZONE:Europe/Monaco
X-MS-OLK-FORCEINSPECTOROPEN:"TRUE"
BEGIN:VTIMEZONE
TZID:Europe/Monaco
BEGIN:STANDARD
DTSTART:20261025T010000
TZOFFSETTO:+0100
TZOFFSETFROM:+0200
RRULE:FREQ=YEARLY;BYMONTH=11;BYDAY=1SU
END:STANDARD
BEGIN:DAYLIGHT
DTSTART:20260329T010000
TZOFFSETTO:+0200
TZOFFSETFROM:+0100
RRULE:FREQ=YEARLY;BYMONTH=3;BYDAY=2SU
END:DAYLIGHT
END:VTIMEZONE
BEGIN:VEVENT
UID:6299-ee30978f2a553ae3043758c114f56a65-principocket.com\n
DTSTART:20260519T183000
DTEND:20260519T200000
TRANSP:TRANSPARENT
IMAGE;VALUE=URI;DISPLAY=;FMTTYPE=image/png:https://app.monacoplatform.
 com/uploads/Yc/YcWLlBJkOg.png
STATUS:CONFIRMED
SUMMARY:Ciné-club - "Uniformes et jupons courts" de Billy Wilder (194
 2) présenté par Yves Gasiglia
DESCRIPTION:Mardi 19 mai 2026 de 18h30 à 20h - Médiathèque Caroline
 \n\n\n\n https://www.principocket.com/fr/event/ee30978f2a553ae3043758c
 114f56a65/cine-club-uniformes-et-jupons-courts-de-billy-wilder-1942-pr
 esente-par-yves-gasiglia
LOCATION:5 Promenade Honoré II\, Monaco
URL:https://www.principocket.com/event/ee30978f2a553ae3043758c114f56a6
 5/6299
DTSTAMP:20260421T152926Z
CREATED:20260421T140404Z
LAST-MODIFIED:20260421T140404Z
END:VEVENT
END:VCALENDAR
