BEGIN:VCALENDAR
VERSION:2.0
PRODID:-//Microsoft Corporation//Outlook 16.0 MIMEDIR//FR
CALSCALE:GREGORIAN
METHOD:PUBLISH
X-WR-TIMEZONE:Europe/Monaco
X-MS-OLK-FORCEINSPECTOROPEN:"TRUE"
BEGIN:VTIMEZONE
TZID:Europe/Monaco
BEGIN:STANDARD
DTSTART:20261025T010000
TZOFFSETTO:+0100
TZOFFSETFROM:+0200
RRULE:FREQ=YEARLY;BYMONTH=11;BYDAY=1SU
END:STANDARD
BEGIN:DAYLIGHT
DTSTART:20260329T010000
TZOFFSETTO:+0200
TZOFFSETFROM:+0100
RRULE:FREQ=YEARLY;BYMONTH=3;BYDAY=2SU
END:DAYLIGHT
END:VTIMEZONE
BEGIN:VEVENT
UID:6298-ff980f95cfde18ebabbaf964a5ddb057-principocket.com\n
DTSTART:20260526T183000
DTEND:20260526T200000
TRANSP:TRANSPARENT
IMAGE;VALUE=URI;DISPLAY=;FMTTYPE=image/png:https://app.monacoplatform.
 com/uploads/fk/fkRoZEc9C_.png
STATUS:CONFIRMED
SUMMARY:Conférence - Gustave Caillebotte, peintre et mécène des Imp
 ressionnistes par Cécilia Auber
DESCRIPTION:Mardi 26 mai 2026 de 18h30 à 20h - Médiathèque Caroline
 \n\n\n\n https://www.principocket.com/fr/event/ff980f95cfde18ebabbaf96
 4a5ddb057/conference-gustave-caillebotte-peintre-et-mecene-des-impress
 ionnistes-par-cecilia-auber
LOCATION:5 Promenade Honoré II\, Monaco
URL:https://www.principocket.com/event/ff980f95cfde18ebabbaf964a5ddb05
 7/6298
DTSTAMP:20260421T165925Z
CREATED:20260421T140404Z
LAST-MODIFIED:20260421T140404Z
END:VEVENT
END:VCALENDAR
