BEGIN:VCALENDAR
VERSION:2.0
PRODID:-//Microsoft Corporation//Outlook 16.0 MIMEDIR//FR
CALSCALE:GREGORIAN
METHOD:PUBLISH
X-WR-TIMEZONE:Europe/Monaco
X-MS-OLK-FORCEINSPECTOROPEN:"TRUE"
BEGIN:VTIMEZONE
TZID:Europe/Monaco
BEGIN:STANDARD
DTSTART:20261025T010000
TZOFFSETTO:+0100
TZOFFSETFROM:+0200
RRULE:FREQ=YEARLY;BYMONTH=11;BYDAY=1SU
END:STANDARD
BEGIN:DAYLIGHT
DTSTART:20260329T010000
TZOFFSETTO:+0200
TZOFFSETFROM:+0100
RRULE:FREQ=YEARLY;BYMONTH=3;BYDAY=2SU
END:DAYLIGHT
END:VTIMEZONE
BEGIN:VEVENT
UID:6297-61437b23a9273c6d9f408b5c1c667173-principocket.com\n
DTSTART:20260528T183000
DTEND:20260528T200000
TRANSP:TRANSPARENT
IMAGE;VALUE=URI;DISPLAY=;FMTTYPE=image/png:https://app.monacoplatform.
 com/uploads/jA/jA7lNGwnzd.png
STATUS:CONFIRMED
SUMMARY:Rencontre dédicace avec Sébastien Uscher autour de son essai
  "Les clés oubliées"
DESCRIPTION:Jeudi 28 mai 2026 de 18h30 à 20h - Médiathèque Caroline
 \n\n\n\n https://www.principocket.com/fr/event/61437b23a9273c6d9f408b5
 c1c667173/rencontre-dedicace-avec-sebastien-uscher-autour-de-son-essai
 -les-cles-oubliees
LOCATION:5 Promenade Honoré II\, Monaco
URL:https://www.principocket.com/event/61437b23a9273c6d9f408b5c1c66717
 3/6297
DTSTAMP:20260421T183115Z
CREATED:20260421T140404Z
LAST-MODIFIED:20260421T140404Z
END:VEVENT
END:VCALENDAR
