BEGIN:VCALENDAR
VERSION:2.0
PRODID:-//Microsoft Corporation//Outlook 16.0 MIMEDIR//FR
CALSCALE:GREGORIAN
METHOD:PUBLISH
X-WR-TIMEZONE:Europe/Monaco
X-MS-OLK-FORCEINSPECTOROPEN:"TRUE"
BEGIN:VTIMEZONE
TZID:Europe/Monaco
BEGIN:STANDARD
DTSTART:20261025T010000
TZOFFSETTO:+0100
TZOFFSETFROM:+0200
RRULE:FREQ=YEARLY;BYMONTH=11;BYDAY=1SU
END:STANDARD
BEGIN:DAYLIGHT
DTSTART:20260329T010000
TZOFFSETTO:+0200
TZOFFSETFROM:+0100
RRULE:FREQ=YEARLY;BYMONTH=3;BYDAY=2SU
END:DAYLIGHT
END:VTIMEZONE
BEGIN:VEVENT
UID:6296-54191830477f41311addc8a7ed590fe8-principocket.com\n
DTSTART:20260529T121500
DTEND:20260529T134500
TRANSP:TRANSPARENT
IMAGE;VALUE=URI;DISPLAY=;FMTTYPE=image/png:https://app.monacoplatform.
 com/uploads/MH/MHCDle40TR.png
STATUS:CONFIRMED
SUMMARY:Café Musique - Cinéma - Venez partager vos coups de cœu
 r musicaux et cinématographiques
DESCRIPTION:Vendredi 29 mai 2026 de 12h15 à 13h45 - Médiathèque Car
 oline\n\n\n\n https://www.principocket.com/fr/event/54191830477f41311a
 ddc8a7ed590fe8/cafe-musique-cinema-venez-partager-vos-coups-de-coeur-m
 usicaux-et-cinematographiques
LOCATION:5 Promenade Honoré II\, Monaco
URL:https://www.principocket.com/event/54191830477f41311addc8a7ed590fe
 8/6296
DTSTAMP:20260421T183043Z
CREATED:20260421T140404Z
LAST-MODIFIED:20260421T140404Z
END:VEVENT
END:VCALENDAR
