BEGIN:VCALENDAR
VERSION:2.0
PRODID:-//Microsoft Corporation//Outlook 16.0 MIMEDIR//FR
CALSCALE:GREGORIAN
METHOD:PUBLISH
X-WR-TIMEZONE:Europe/Monaco
X-MS-OLK-FORCEINSPECTOROPEN:"TRUE"
BEGIN:VTIMEZONE
TZID:Europe/Monaco
BEGIN:STANDARD
DTSTART:20261025T010000
TZOFFSETTO:+0100
TZOFFSETFROM:+0200
RRULE:FREQ=YEARLY;BYMONTH=11;BYDAY=1SU
END:STANDARD
BEGIN:DAYLIGHT
DTSTART:20260329T010000
TZOFFSETTO:+0200
TZOFFSETFROM:+0100
RRULE:FREQ=YEARLY;BYMONTH=3;BYDAY=2SU
END:DAYLIGHT
END:VTIMEZONE
BEGIN:VEVENT
UID:6295-f59f6fa31580747c74325d42162599ce-principocket.com\n
DTSTART:20260530T110000
DTEND:20260530T123000
TRANSP:TRANSPARENT
IMAGE;VALUE=URI;DISPLAY=;FMTTYPE=image/png:https://app.monacoplatform.
 com/uploads/Mf/Mf9Iht8ot6.png
STATUS:CONFIRMED
SUMMARY:Rencontre dédicace avec Boris Cyrulnik autour de son dernier 
 livre "Au saccage des petits bonheurs" animée par Chloé VIAC
DESCRIPTION:Samedi 30 mai 2026 de 11h à 12h30 - Médiathèque Carolin
 e\n\n\n\n https://www.principocket.com/fr/event/f59f6fa31580747c74325d
 42162599ce/rencontre-dedicace-avec-boris-cyrulnik-autour-de-son-dernie
 r-livre-au-saccage-des-petits-bonheurs-animee-par-chloe-viac
LOCATION:5 Promenade Honoré II\, Monaco
URL:https://www.principocket.com/event/f59f6fa31580747c74325d42162599c
 e/6295
DTSTAMP:20260425T105927Z
CREATED:20260421T140404Z
LAST-MODIFIED:20260421T140404Z
END:VEVENT
END:VCALENDAR
