BEGIN:VCALENDAR
VERSION:2.0
PRODID:-//Microsoft Corporation//Outlook 16.0 MIMEDIR//FR
CALSCALE:GREGORIAN
METHOD:PUBLISH
X-WR-TIMEZONE:Europe/Monaco
X-MS-OLK-FORCEINSPECTOROPEN:"TRUE"
BEGIN:VTIMEZONE
TZID:Europe/Monaco
BEGIN:STANDARD
DTSTART:20261025T010000
TZOFFSETTO:+0100
TZOFFSETFROM:+0200
RRULE:FREQ=YEARLY;BYMONTH=11;BYDAY=1SU
END:STANDARD
BEGIN:DAYLIGHT
DTSTART:20260329T010000
TZOFFSETTO:+0200
TZOFFSETFROM:+0100
RRULE:FREQ=YEARLY;BYMONTH=3;BYDAY=2SU
END:DAYLIGHT
END:VTIMEZONE
BEGIN:VEVENT
UID:6294-4cad1d04f53e52dae7099b167f225a9a-principocket.com\n
DTSTART:20260530T150000
DTEND:20260530T170000
TRANSP:TRANSPARENT
IMAGE;VALUE=URI;DISPLAY=;FMTTYPE=image/png:https://app.monacoplatform.
 com/uploads/2K/2K1U1c9Gyy.png
STATUS:CONFIRMED
SUMMARY:Philo Blabla - La nature a-t-elle des droits ?
DESCRIPTION:Samedi 30 mai 2026 de 15h à 17h - Médiathèque Caroline\
 n\n\n\n https://www.principocket.com/fr/event/4cad1d04f53e52dae7099b16
 7f225a9a/philo-blabla-la-nature-a-t-elle-des-droits
LOCATION:5 Promenade Honoré II\, Monaco
URL:https://www.principocket.com/event/4cad1d04f53e52dae7099b167f225a9
 a/6294
DTSTAMP:20260421T123950Z
CREATED:20260420T152534Z
LAST-MODIFIED:20260420T152534Z
END:VEVENT
END:VCALENDAR
