BEGIN:VCALENDAR
VERSION:2.0
PRODID:-//Microsoft Corporation//Outlook 16.0 MIMEDIR//FR
CALSCALE:GREGORIAN
METHOD:PUBLISH
X-WR-TIMEZONE:Europe/Monaco
X-MS-OLK-FORCEINSPECTOROPEN:"TRUE"
BEGIN:VTIMEZONE
TZID:Europe/Monaco
BEGIN:STANDARD
DTSTART:20261025T010000
TZOFFSETTO:+0100
TZOFFSETFROM:+0200
RRULE:FREQ=YEARLY;BYMONTH=11;BYDAY=1SU
END:STANDARD
BEGIN:DAYLIGHT
DTSTART:20260329T010000
TZOFFSETTO:+0200
TZOFFSETFROM:+0100
RRULE:FREQ=YEARLY;BYMONTH=3;BYDAY=2SU
END:DAYLIGHT
END:VTIMEZONE
BEGIN:VEVENT
UID:6291-83c93e3c3b3e1c594b71ca64bc57ec8f-principocket.com\n
DTSTART:20260612T121500
DTEND:20260612T134500
TRANSP:TRANSPARENT
IMAGE;VALUE=URI;DISPLAY=;FMTTYPE=image/png:https://app.monacoplatform.
 com/uploads/Xe/XeOPJfNU5V.png
STATUS:CONFIRMED
SUMMARY:Café Littéraire - Venez échanger sur vos coups de cœur
DESCRIPTION:Vendredi 12 juin 2026 de 12h15 à 13h45 - Médiathèque Ca
 roline\n\n\n\n https://www.principocket.com/fr/event/83c93e3c3b3e1c594
 b71ca64bc57ec8f/cafe-litteraire-venez-echanger-sur-vos-coups-de-coeur
LOCATION:5 Promenade Honoré II\, Monaco
URL:https://www.principocket.com/event/83c93e3c3b3e1c594b71ca64bc57ec8
 f/6291
DTSTAMP:20260421T183017Z
CREATED:20260421T140404Z
LAST-MODIFIED:20260421T140404Z
END:VEVENT
END:VCALENDAR
