BEGIN:VCALENDAR
VERSION:2.0
PRODID:-//Microsoft Corporation//Outlook 16.0 MIMEDIR//FR
CALSCALE:GREGORIAN
METHOD:PUBLISH
X-WR-TIMEZONE:Europe/Monaco
X-MS-OLK-FORCEINSPECTOROPEN:"TRUE"
BEGIN:VTIMEZONE
TZID:Europe/Monaco
BEGIN:STANDARD
DTSTART:20261025T010000
TZOFFSETTO:+0100
TZOFFSETFROM:+0200
RRULE:FREQ=YEARLY;BYMONTH=11;BYDAY=1SU
END:STANDARD
BEGIN:DAYLIGHT
DTSTART:20260329T010000
TZOFFSETTO:+0200
TZOFFSETFROM:+0100
RRULE:FREQ=YEARLY;BYMONTH=3;BYDAY=2SU
END:DAYLIGHT
END:VTIMEZONE
BEGIN:VEVENT
UID:6290-9118a3d87bdd275ca23aff333227707b-principocket.com\n
DTSTART:20260613T180000
DTEND:20260613T190000
TRANSP:TRANSPARENT
IMAGE;VALUE=URI;DISPLAY=;FMTTYPE=image/png:https://app.monacoplatform.
 com/uploads/aA/aA89pzAV3Y.png
STATUS:CONFIRMED
SUMMARY:Concert chorégraphique - Spinners Game - Sur des musiques él
 ectroacoustiques
DESCRIPTION:Samedi 13 juin 2026 de 18h à 19h - Médiathèque Caroline
 \n\n\n\n https://www.principocket.com/fr/event/9118a3d87bdd275ca23aff3
 33227707b/concert-choregraphique-spinners-game-sur-des-musiques-electr
 oacoustiques
LOCATION:5 Promenade Honoré II\, Monaco
URL:https://www.principocket.com/event/9118a3d87bdd275ca23aff333227707
 b/6290
DTSTAMP:20260421T182947Z
CREATED:20260421T140404Z
LAST-MODIFIED:20260421T140404Z
END:VEVENT
END:VCALENDAR
