BEGIN:VCALENDAR
VERSION:2.0
PRODID:-//Microsoft Corporation//Outlook 16.0 MIMEDIR//FR
CALSCALE:GREGORIAN
METHOD:PUBLISH
X-WR-TIMEZONE:Europe/Monaco
X-MS-OLK-FORCEINSPECTOROPEN:"TRUE"
BEGIN:VTIMEZONE
TZID:Europe/Monaco
BEGIN:STANDARD
DTSTART:20261025T010000
TZOFFSETTO:+0100
TZOFFSETFROM:+0200
RRULE:FREQ=YEARLY;BYMONTH=11;BYDAY=1SU
END:STANDARD
BEGIN:DAYLIGHT
DTSTART:20260329T010000
TZOFFSETTO:+0200
TZOFFSETFROM:+0100
RRULE:FREQ=YEARLY;BYMONTH=3;BYDAY=2SU
END:DAYLIGHT
END:VTIMEZONE
BEGIN:VEVENT
UID:6289-04eb5a3f389d2937c16741f1c47dfea3-principocket.com\n
DTSTART:20260616T121500
DTEND:20260616T134500
TRANSP:TRANSPARENT
IMAGE;VALUE=URI;DISPLAY=;FMTTYPE=image/png:https://app.monacoplatform.
 com/uploads/Xo/Xom_LCYkK7.png
STATUS:CONFIRMED
SUMMARY:Picnic Music Live - Concert Faust'in Live - Reprises pop, vari
 été & soul
DESCRIPTION:Mardi 16 juin 2026 de 12h15 à 13h45 - Médiathèque Carol
 ine\n\n\n\n https://www.principocket.com/fr/event/04eb5a3f389d2937c167
 41f1c47dfea3/picnic-music-live-concert-faust-in-live-reprises-pop-vari
 ete-soul
LOCATION:5 Promenade Honoré II\, Monaco
URL:https://www.principocket.com/event/04eb5a3f389d2937c16741f1c47dfea
 3/6289
DTSTAMP:20260421T165722Z
CREATED:20260421T140404Z
LAST-MODIFIED:20260421T140404Z
END:VEVENT
END:VCALENDAR
