BEGIN:VCALENDAR
VERSION:2.0
PRODID:-//Microsoft Corporation//Outlook 16.0 MIMEDIR//FR
CALSCALE:GREGORIAN
METHOD:PUBLISH
X-WR-TIMEZONE:Europe/Monaco
X-MS-OLK-FORCEINSPECTOROPEN:"TRUE"
BEGIN:VTIMEZONE
TZID:Europe/Monaco
BEGIN:STANDARD
DTSTART:20261025T010000
TZOFFSETTO:+0100
TZOFFSETFROM:+0200
RRULE:FREQ=YEARLY;BYMONTH=11;BYDAY=1SU
END:STANDARD
BEGIN:DAYLIGHT
DTSTART:20260329T010000
TZOFFSETTO:+0200
TZOFFSETFROM:+0100
RRULE:FREQ=YEARLY;BYMONTH=3;BYDAY=2SU
END:DAYLIGHT
END:VTIMEZONE
BEGIN:VEVENT
UID:6288-00c200ef8e6be2a9396289cc29cebe5b-principocket.com\n
DTSTART:20260619T183000
DTEND:20260619T200000
TRANSP:TRANSPARENT
IMAGE;VALUE=URI;DISPLAY=;FMTTYPE=image/png:https://app.monacoplatform.
 com/uploads/HX/HXT5EX3yFI.png
STATUS:CONFIRMED
SUMMARY:Parlons santé mentale - Projection de "EN CRISE", film de Jé
 rémy Belando en présence de l’équipe, suivie d’une table ronde 
 avec des professionnels et des aidants
DESCRIPTION:Vendredi 19 juin 2026 de 18h30 à 20h - Médiathèque Caro
 line\n\n\n\n https://www.principocket.com/fr/event/00c200ef8e6be2a9396
 289cc29cebe5b/parlons-sante-mentale-projection-de-en-crise-film-de-jer
 emy-belando-en-presence-de-l-equipe-suivie-d-une-table-ronde-avec-des-
 professionnels-et-des-aidants
LOCATION:5 Promenade Honoré II\, Monaco
URL:https://www.principocket.com/event/00c200ef8e6be2a9396289cc29cebe5
 b/6288
DTSTAMP:20260421T152956Z
CREATED:20260421T140404Z
LAST-MODIFIED:20260421T140404Z
END:VEVENT
END:VCALENDAR
