BEGIN:VCALENDAR
VERSION:2.0
PRODID:-//Microsoft Corporation//Outlook 16.0 MIMEDIR//FR
CALSCALE:GREGORIAN
METHOD:PUBLISH
X-WR-TIMEZONE:Europe/Monaco
X-MS-OLK-FORCEINSPECTOROPEN:"TRUE"
BEGIN:VTIMEZONE
TZID:Europe/Monaco
BEGIN:STANDARD
DTSTART:20261025T010000
TZOFFSETTO:+0100
TZOFFSETFROM:+0200
RRULE:FREQ=YEARLY;BYMONTH=11;BYDAY=1SU
END:STANDARD
BEGIN:DAYLIGHT
DTSTART:20260329T010000
TZOFFSETTO:+0200
TZOFFSETFROM:+0100
RRULE:FREQ=YEARLY;BYMONTH=3;BYDAY=2SU
END:DAYLIGHT
END:VTIMEZONE
BEGIN:VEVENT
UID:6287-74a6d44510547eb8dba1d0099b6d2209-principocket.com\n
DTSTART:20260623T121500
DTEND:20260623T134500
TRANSP:TRANSPARENT
IMAGE;VALUE=URI;DISPLAY=;FMTTYPE=image/png:https://app.monacoplatform.
 com/uploads/Ld/LduPVUvOyC.png
STATUS:CONFIRMED
SUMMARY:Sieste musicale - Instant détente pendant la pause déjeuner
DESCRIPTION:Mardi 23 juin 2026 de 12h15 à 13h45 - Médiathèque Carol
 ine\n\n\n\n https://www.principocket.com/fr/event/74a6d44510547eb8dba1
 d0099b6d2209/sieste-musicale-instant-detente-pendant-la-pause-dejeuner
LOCATION:5 Promenade Honoré II\, Monaco
URL:https://www.principocket.com/event/74a6d44510547eb8dba1d0099b6d220
 9/6287
DTSTAMP:20260421T165727Z
CREATED:20260421T140404Z
LAST-MODIFIED:20260421T140404Z
END:VEVENT
END:VCALENDAR
