BEGIN:VCALENDAR
VERSION:2.0
PRODID:-//Microsoft Corporation//Outlook 16.0 MIMEDIR//FR
CALSCALE:GREGORIAN
METHOD:PUBLISH
X-WR-TIMEZONE:Europe/Monaco
X-MS-OLK-FORCEINSPECTOROPEN:"TRUE"
BEGIN:VTIMEZONE
TZID:Europe/Monaco
BEGIN:STANDARD
DTSTART:20261025T010000
TZOFFSETTO:+0100
TZOFFSETFROM:+0200
RRULE:FREQ=YEARLY;BYMONTH=11;BYDAY=1SU
END:STANDARD
BEGIN:DAYLIGHT
DTSTART:20260329T010000
TZOFFSETTO:+0200
TZOFFSETFROM:+0100
RRULE:FREQ=YEARLY;BYMONTH=3;BYDAY=2SU
END:DAYLIGHT
END:VTIMEZONE
BEGIN:VEVENT
UID:6286-9a1b45997ed36e1e8973e15cff647fff-principocket.com\n
DTSTART:20260630T183000
DTEND:20260630T203000
TRANSP:TRANSPARENT
IMAGE;VALUE=URI;DISPLAY=;FMTTYPE=image/png:https://app.monacoplatform.
 com/uploads/V8/V8KX3kbhA2.png
STATUS:CONFIRMED
SUMMARY:Ciné-club - "L'immensità" d'Emanuele Crialese (2022) animé 
 par Serge Pierryves
DESCRIPTION:Mardi 30 juin 2026 de 18h30 à 20h30 - Médiathèque Carol
 ine\n\n\n\n https://www.principocket.com/fr/event/9a1b45997ed36e1e8973
 e15cff647fff/cine-club-l-immensita-d-emanuele-crialese-2022-anime-par-
 serge-pierryves
LOCATION:5 Promenade Honoré II\, Monaco
URL:https://www.principocket.com/event/9a1b45997ed36e1e8973e15cff647ff
 f/6286
DTSTAMP:20260425T131519Z
CREATED:20260421T140404Z
LAST-MODIFIED:20260421T140404Z
END:VEVENT
END:VCALENDAR
