BEGIN:VCALENDAR
VERSION:2.0
PRODID:-//Microsoft Corporation//Outlook 16.0 MIMEDIR//FR
CALSCALE:GREGORIAN
METHOD:PUBLISH
X-WR-TIMEZONE:Europe/Monaco
X-MS-OLK-FORCEINSPECTOROPEN:"TRUE"
BEGIN:VTIMEZONE
TZID:Europe/Monaco
BEGIN:STANDARD
DTSTART:20261025T010000
TZOFFSETTO:+0100
TZOFFSETFROM:+0200
RRULE:FREQ=YEARLY;BYMONTH=11;BYDAY=1SU
END:STANDARD
BEGIN:DAYLIGHT
DTSTART:20260329T010000
TZOFFSETTO:+0200
TZOFFSETFROM:+0100
RRULE:FREQ=YEARLY;BYMONTH=3;BYDAY=2SU
END:DAYLIGHT
END:VTIMEZONE
BEGIN:VEVENT
UID:6285-9783258c64ff8846216736f42ae77d28-principocket.com\n
DTSTART:20260627T150000
DTEND:20260627T180000
TRANSP:TRANSPARENT
IMAGE;VALUE=URI;DISPLAY=;FMTTYPE=image/png:https://app.monacoplatform.
 com/uploads/Ha/HaPzQ9M0nT.png
STATUS:CONFIRMED
SUMMARY:Atelier de pratique de musique traditionnelle
DESCRIPTION:Samedi 27 juin 2026 de 15h à 18h - Médiathèque Caroline
 \n\n\n\n https://www.principocket.com/fr/event/9783258c64ff8846216736f
 42ae77d28/atelier-de-pratique-de-musique-traditionnelle
LOCATION:5 Promenade Honoré II\, Monaco
URL:https://www.principocket.com/event/9783258c64ff8846216736f42ae77d2
 8/6285
DTSTAMP:20260421T123850Z
CREATED:20260420T152534Z
LAST-MODIFIED:20260420T152534Z
END:VEVENT
END:VCALENDAR
