BEGIN:VCALENDAR
VERSION:2.0
PRODID:-//Microsoft Corporation//Outlook 16.0 MIMEDIR//FR
CALSCALE:GREGORIAN
METHOD:PUBLISH
X-WR-TIMEZONE:Europe/Monaco
X-MS-OLK-FORCEINSPECTOROPEN:"TRUE"
BEGIN:VTIMEZONE
TZID:Europe/Monaco
BEGIN:STANDARD
DTSTART:20261025T010000
TZOFFSETTO:+0100
TZOFFSETFROM:+0200
RRULE:FREQ=YEARLY;BYMONTH=11;BYDAY=1SU
END:STANDARD
BEGIN:DAYLIGHT
DTSTART:20260329T010000
TZOFFSETTO:+0200
TZOFFSETFROM:+0100
RRULE:FREQ=YEARLY;BYMONTH=3;BYDAY=2SU
END:DAYLIGHT
END:VTIMEZONE
BEGIN:VEVENT
UID:6284-4492866d640740fcbb551f41514cb68b-principocket.com\n
DTSTART:20260620T150000
DTEND:20260620T170000
TRANSP:TRANSPARENT
IMAGE;VALUE=URI;DISPLAY=;FMTTYPE=image/png:https://app.monacoplatform.
 com/uploads/Tm/TmHSb0DSuB.png
STATUS:CONFIRMED
SUMMARY:Rallye-lecture jeunesse - Remise des prix, suivie de la projec
 tion du film "La Vie de château, mon enfance à Versailles" de Cléme
 nce Madeleine-Perdrillat et Nathaniel H'Limi (2025)
DESCRIPTION:Samedi 20 juin 2026 de 15h à 17h - Médiathèque Caroline
 \n\n\n\n https://www.principocket.com/fr/event/4492866d640740fcbb551f4
 1514cb68b/rallye-lecture-jeunesse-remise-des-prix-suivie-de-la-project
 ion-du-film-la-vie-de-chateau-mon-enfance-a-versailles-de-clemence-mad
 eleine-perdrillat-et-nathaniel-h-limi-2025
LOCATION:5 Promenade Honoré II\, Monaco
URL:https://www.principocket.com/event/4492866d640740fcbb551f41514cb68
 b/6284
DTSTAMP:20260425T110007Z
CREATED:20260421T140404Z
LAST-MODIFIED:20260421T140404Z
END:VEVENT
END:VCALENDAR
