BEGIN:VCALENDAR
VERSION:2.0
PRODID:-//Microsoft Corporation//Outlook 16.0 MIMEDIR//FR
CALSCALE:GREGORIAN
METHOD:PUBLISH
X-WR-TIMEZONE:Europe/Monaco
X-MS-OLK-FORCEINSPECTOROPEN:"TRUE"
BEGIN:VTIMEZONE
TZID:Europe/Monaco
BEGIN:STANDARD
DTSTART:20261025T010000
TZOFFSETTO:+0100
TZOFFSETFROM:+0200
RRULE:FREQ=YEARLY;BYMONTH=11;BYDAY=1SU
END:STANDARD
BEGIN:DAYLIGHT
DTSTART:20260329T010000
TZOFFSETTO:+0200
TZOFFSETFROM:+0100
RRULE:FREQ=YEARLY;BYMONTH=3;BYDAY=2SU
END:DAYLIGHT
END:VTIMEZONE
BEGIN:VEVENT
UID:6283-7077857760100f3784a272d81539c5db-principocket.com\n
DTSTART:20260920T180000
DTEND:20260920T203000
TRANSP:TRANSPARENT
IMAGE;VALUE=URI;DISPLAY=;FMTTYPE=image/png:https://app.monacoplatform.
 com/uploads/Sp/SpZtZMxSdg.jpg
STATUS:CONFIRMED
SUMMARY:Stella Almondo
DESCRIPTION:Dimanche 20 septembre 2026 de 18h à 20h30 - Grimaldi Foru
 m Monaco\n\n\n\n https://www.principocket.com/fr/event/7077857760100f3
 784a272d81539c5db/stella-almondo
LOCATION:10\, avenue Princesse Grace
URL:https://www.principocket.com/event/7077857760100f3784a272d81539c5d
 b/6283
DTSTAMP:20260421T123601Z
CREATED:20260420T152534Z
LAST-MODIFIED:20260420T152534Z
END:VEVENT
END:VCALENDAR
