BEGIN:VCALENDAR
VERSION:2.0
PRODID:-//Microsoft Corporation//Outlook 16.0 MIMEDIR//FR
CALSCALE:GREGORIAN
METHOD:PUBLISH
X-WR-TIMEZONE:Europe/Monaco
X-MS-OLK-FORCEINSPECTOROPEN:"TRUE"
BEGIN:VTIMEZONE
TZID:Europe/Monaco
BEGIN:STANDARD
DTSTART:20261025T010000
TZOFFSETTO:+0100
TZOFFSETFROM:+0200
RRULE:FREQ=YEARLY;BYMONTH=11;BYDAY=1SU
END:STANDARD
BEGIN:DAYLIGHT
DTSTART:20260329T010000
TZOFFSETTO:+0200
TZOFFSETFROM:+0100
RRULE:FREQ=YEARLY;BYMONTH=3;BYDAY=2SU
END:DAYLIGHT
END:VTIMEZONE
BEGIN:VEVENT
UID:6282-4ded8d9a2806196d933d686795a7023d-principocket.com\n
DTSTART:20260521T190000
DTEND:20260521T210000
TRANSP:TRANSPARENT
IMAGE;VALUE=URI;DISPLAY=;FMTTYPE=image/png:https://app.monacoplatform.
 com/uploads/pE/pEAvSuqc6D.jpg
STATUS:CONFIRMED
SUMMARY:"Plein air" : projection/rencontre avec Helga Fanderl
DESCRIPTION:Jeudi 21 mai 2026 de 19h à 21h - Institut Audiovisuel de 
 Monaco\n\n"Plein air" : projection/rencontre avec Helga Fanderl à 19h
 . Films diffusés avec des projecteurs argentiques Super8 et 16 mm.\n\
 n https://www.principocket.com/fr/event/4ded8d9a2806196d933d686795a702
 3d/plein-air-projection-rencontre-avec-helga-fanderl
LOCATION:L'Engelin\, 83-85\, boulevard du Jardin Exotique
URL:https://www.principocket.com/event/4ded8d9a2806196d933d686795a7023
 d/6282
DTSTAMP:20260421T140818Z
CREATED:20260421T140400Z
LAST-MODIFIED:20260421T140400Z
END:VEVENT
END:VCALENDAR
