BEGIN:VCALENDAR
VERSION:2.0
PRODID:-//Microsoft Corporation//Outlook 16.0 MIMEDIR//FR
CALSCALE:GREGORIAN
METHOD:PUBLISH
X-WR-TIMEZONE:Europe/Monaco
X-MS-OLK-FORCEINSPECTOROPEN:"TRUE"
BEGIN:VTIMEZONE
TZID:Europe/Monaco
BEGIN:STANDARD
DTSTART:20261025T010000
TZOFFSETTO:+0100
TZOFFSETFROM:+0200
RRULE:FREQ=YEARLY;BYMONTH=11;BYDAY=1SU
END:STANDARD
BEGIN:DAYLIGHT
DTSTART:20260329T010000
TZOFFSETTO:+0200
TZOFFSETFROM:+0100
RRULE:FREQ=YEARLY;BYMONTH=3;BYDAY=2SU
END:DAYLIGHT
END:VTIMEZONE
BEGIN:VEVENT
UID:6280-240b096f3bf8267dea1b289c767bbde5-principocket.com\n
DTSTART:20260526T190000
DTEND:20260526T210000
TRANSP:TRANSPARENT
IMAGE;VALUE=URI;DISPLAY=;FMTTYPE=image/png:https://app.monacoplatform.
 com/uploads/6G/6GiQXdr6bJ.jpg
STATUS:CONFIRMED
SUMMARY:"Haute Pègre" d'Ernst Lubitsch
DESCRIPTION:Mardi 26 mai 2026 de 19h à 21h - Théâtre des Variétés
 \n\nProjection à 19h en version originale sous-titrée français du f
 ilm d'Ernst Lubitsch “ Haute Pègre ” (États-Unis\, 1932) dans le
  cadre du cycle “ La Comédie américaine ”. \n\n https://www.pri
 ncipocket.com/fr/event/240b096f3bf8267dea1b289c767bbde5/haute-pegre-d-
 ernst-lubitsch
LOCATION:1\, boulevard Albert Ier
URL:https://www.principocket.com/event/240b096f3bf8267dea1b289c767bbde
 5/6280
DTSTAMP:20260421T140807Z
CREATED:20260421T140400Z
LAST-MODIFIED:20260421T140400Z
END:VEVENT
END:VCALENDAR
