BEGIN:VCALENDAR
VERSION:2.0
PRODID:-//Microsoft Corporation//Outlook 16.0 MIMEDIR//FR
CALSCALE:GREGORIAN
METHOD:PUBLISH
X-WR-TIMEZONE:Europe/Monaco
X-MS-OLK-FORCEINSPECTOROPEN:"TRUE"
BEGIN:VTIMEZONE
TZID:Europe/Monaco
BEGIN:STANDARD
DTSTART:20261025T010000
TZOFFSETTO:+0100
TZOFFSETFROM:+0200
RRULE:FREQ=YEARLY;BYMONTH=11;BYDAY=1SU
END:STANDARD
BEGIN:DAYLIGHT
DTSTART:20260329T010000
TZOFFSETTO:+0200
TZOFFSETFROM:+0100
RRULE:FREQ=YEARLY;BYMONTH=3;BYDAY=2SU
END:DAYLIGHT
END:VTIMEZONE
BEGIN:VEVENT
UID:6279-f2066268a092578c24bcac253918c925-principocket.com\n
DTSTART:20260618T183000
DTEND:20260618T230000
TRANSP:TRANSPARENT
IMAGE;VALUE=URI;DISPLAY=;FMTTYPE=image/png:https://app.monacoplatform.
 com/uploads/NC/NCcAQ3frBp.jpg
STATUS:CONFIRMED
SUMMARY:Thursday Live Sessions - Bande à part
DESCRIPTION:Jeudi 18 juin 2026 de 18h30 à 23h - Grimaldi Forum Monaco
 \n\nLe jeudi 18 juin 2026\, les Thursday Live Sessions reviennent avec
  Bande à Part pour une soirée live festive et gratuite à Monaco. D
 ès 18h30 en mode apéromix\, puis 20h30 en concert\, profitez d’une
  ambiance conviviale et musicale au cœur du Grimaldi Forum.\n\n https
 ://www.principocket.com/fr/event/f2066268a092578c24bcac253918c925/thur
 sday-live-sessions-bande-a-part
LOCATION:10\, avenue Princesse Grace
URL:https://www.principocket.com/event/f2066268a092578c24bcac253918c92
 5/6279
DTSTAMP:20260421T123708Z
CREATED:20260420T152534Z
LAST-MODIFIED:20260420T152534Z
END:VEVENT
END:VCALENDAR
