BEGIN:VCALENDAR
VERSION:2.0
PRODID:-//Microsoft Corporation//Outlook 16.0 MIMEDIR//FR
CALSCALE:GREGORIAN
METHOD:PUBLISH
X-WR-TIMEZONE:Europe/Monaco
X-MS-OLK-FORCEINSPECTOROPEN:"TRUE"
BEGIN:VTIMEZONE
TZID:Europe/Monaco
BEGIN:STANDARD
DTSTART:20261025T010000
TZOFFSETTO:+0100
TZOFFSETFROM:+0200
RRULE:FREQ=YEARLY;BYMONTH=11;BYDAY=1SU
END:STANDARD
BEGIN:DAYLIGHT
DTSTART:20260329T010000
TZOFFSETTO:+0200
TZOFFSETFROM:+0100
RRULE:FREQ=YEARLY;BYMONTH=3;BYDAY=2SU
END:DAYLIGHT
END:VTIMEZONE
BEGIN:VEVENT
UID:6278-8f9de0936be7bc12f776ebe9d7cc7b69-principocket.com\n
DTSTART:20261024T180000
DTEND:20261024T203000
TRANSP:TRANSPARENT
IMAGE;VALUE=URI;DISPLAY=;FMTTYPE=image/png:https://app.monacoplatform.
 com/uploads/Iq/Iq8ffHecsf.jpg
STATUS:CONFIRMED
SUMMARY:Disney en concert - Suivez vos rêves
DESCRIPTION:Samedi 24 octobre 2026 de 18h à 20h30 - Grimaldi Forum Mo
 naco\n\nEn octobre 2026\, le Grimaldi Forum Monaco accueillera un gran
 d concert symphonique dédié aux plus célèbres musiques de Disney\,
  interprétées en français par le Sinfonia Pop Orchestra sous la dir
 ection de Jordan Gudefin.\n\n https://www.principocket.com/fr/event/8f
 9de0936be7bc12f776ebe9d7cc7b69/disney-en-concert-suivez-vos-reves
LOCATION:10\, avenue Princesse Grace
URL:https://www.principocket.com/event/8f9de0936be7bc12f776ebe9d7cc7b6
 9/6278
DTSTAMP:20260421T123915Z
CREATED:20260420T152534Z
LAST-MODIFIED:20260420T152534Z
END:VEVENT
END:VCALENDAR
