BEGIN:VCALENDAR
VERSION:2.0
PRODID:-//Microsoft Corporation//Outlook 16.0 MIMEDIR//FR
CALSCALE:GREGORIAN
METHOD:PUBLISH
X-WR-TIMEZONE:Europe/Monaco
X-MS-OLK-FORCEINSPECTOROPEN:"TRUE"
BEGIN:VTIMEZONE
TZID:Europe/Monaco
BEGIN:STANDARD
DTSTART:20261025T010000
TZOFFSETTO:+0100
TZOFFSETFROM:+0200
RRULE:FREQ=YEARLY;BYMONTH=11;BYDAY=1SU
END:STANDARD
BEGIN:DAYLIGHT
DTSTART:20260329T010000
TZOFFSETTO:+0200
TZOFFSETFROM:+0100
RRULE:FREQ=YEARLY;BYMONTH=3;BYDAY=2SU
END:DAYLIGHT
END:VTIMEZONE
BEGIN:VEVENT
UID:6277-82c3562b39bcae7286f79d9655c78128-principocket.com\n
DTSTART:20261212T143000
DTEND:20261212T170000
TRANSP:TRANSPARENT
IMAGE;VALUE=URI;DISPLAY=;FMTTYPE=image/png:https://app.monacoplatform.
 com/uploads/Hf/HfzDUEkPFq.png
STATUS:CONFIRMED
SUMMARY:Shrek - the musical
DESCRIPTION:Samedi 12 décembre 2026 de 14h30 à 17h - Grimaldi Forum 
 Monaco\n\nShrek The Musical : la comédie musicale culte débarque sur
  scène \n\n https://www.principocket.com/fr/event/82c3562b39bcae7286
 f79d9655c78128/shrek-the-musical
LOCATION:10\, avenue Princesse Grace
URL:https://www.principocket.com/event/82c3562b39bcae7286f79d9655c7812
 8/6277
DTSTAMP:20260421T140619Z
CREATED:20260421T140358Z
LAST-MODIFIED:20260421T140358Z
END:VEVENT
END:VCALENDAR
